BEGIN:VCALENDAR
VERSION:2.0
PRODID:-//Hennesseys Bar - Kitchen - Garden - ECPv4.9.13//NONSGML v1.0//EN
CALSCALE:GREGORIAN
METHOD:PUBLISH
X-WR-CALNAME:Hennesseys Bar - Kitchen - Garden
X-ORIGINAL-URL:https://hennesseysdigbeth.co.uk
X-WR-CALDESC:Events for Hennesseys Bar - Kitchen - Garden
BEGIN:VTIMEZONE
TZID:Asia/Krasnoyarsk
BEGIN:STANDARD
TZOFFSETFROM:+0700
TZOFFSETTO:+0700
TZNAME:+07
DTSTART:20250101T000000
END:STANDARD
TZID:Europe/London
BEGIN:DAYLIGHT
TZOFFSETFROM:+0000
TZOFFSETTO:+0100
TZNAME:BST
DTSTART:20250330T010000
END:DAYLIGHT
BEGIN:STANDARD
TZOFFSETFROM:+0100
TZOFFSETTO:+0000
TZNAME:GMT
DTSTART:20251026T010000
END:STANDARD
END:VTIMEZONE
BEGIN:VEVENT
DTSTART;VALUE=DATE:20250131
DTEND;VALUE=DATE:20250316
DTSTAMP:20260422T030230
CREATED:20250115T152500Z
LAST-MODIFIED:20250115T162550Z
UID:13693-1738281600-1742083199@hennesseysdigbeth.co.uk
SUMMARY:The Six Nations 2025
DESCRIPTION:Come and watch  every game live for the Six Nations 2025 live at Hennesseys. The only  place to be to watch the Six Nations tournament \nWith our many hd screens and our spectacular big screen in our garden there’s no better place to watch Six Nations Rugby  event. \nSix Nation Table Booking \nYou can book a table in our basement for £50 (you will receive a £50 tab to spend on food  drinks on the day) \n    	\n        BOOK YOUR TABLE NOW        \n        \n  \n \n  \n  \n  \n  \n
URL:https://hennesseysdigbeth.co.uk/event/the-six-nations-2025/
LOCATION:Hennesseys Digbeth Birmingham\, 30-31 Allison St\, Birmingham\, Birmingham\, B5 5TJ\, United Kingdom
CATEGORIES:Six Nations 2025
ATTACH;FMTTYPE=image/jpeg:https://hennesseysdigbeth.co.uk/website/wp-content/uploads/2025/01/s11.jpg
END:VEVENT
BEGIN:VEVENT
DTSTART;VALUE=DATE:20250311
DTEND;VALUE=DATE:20250316
DTSTAMP:20260422T030230
CREATED:20250123T105110Z
LAST-MODIFIED:20250213T133317Z
UID:13764-1741651200-1742083199@hennesseysdigbeth.co.uk
SUMMARY:Cheltenham Festival 2025 Live Music Guide
DESCRIPTION:As well as watching The Cheltenham Festival 2025 with every race Live with commentary at Hennesseys. there is a full live Music line up at the end of every raceday. \nA brilliant evening with a brilliant atmosphere is guaranteed and fingers crossed your celebrating your winnings \n  \n  \n  \n  \n  \n  \n  \n  \n  \n  \n  \n  \n
URL:https://hennesseysdigbeth.co.uk/event/cheltenham-festival-2025-live-music-guide/
LOCATION:Hennesseys Digbeth Birmingham\, 30-31 Allison St\, Birmingham\, Birmingham\, B5 5TJ\, United Kingdom
CATEGORIES:2025,Cheltenham,Live Music
ATTACH;FMTTYPE=image/jpeg:https://hennesseysdigbeth.co.uk/website/wp-content/uploads/2025/01/CHETENHAM-GIG-GUIDE.jpg
END:VEVENT
BEGIN:VEVENT
DTSTART;TZID=Europe/London:20250315T190000
DTEND;TZID=Europe/London:20250315T233000
DTSTAMP:20260422T030230
CREATED:20250306T115545Z
LAST-MODIFIED:20250306T115545Z
UID:13903-1742065200-1742081400@hennesseysdigbeth.co.uk
SUMMARY:Luna Waves
DESCRIPTION:Come and  enjoy a great night of live Music with Luna Waves live at Hennesseys on Saturday 15th March 2025  from 7:30pm.  Playing an array of outstanding covers Indie covers. An unbelievable band that know show to put on a show \nA great night with a great atmosphere is guaranteed. \n  \n  \n
URL:https://hennesseysdigbeth.co.uk/event/luna-waves-2/
CATEGORIES:2025,Birmingham,Live Music
ATTACH;FMTTYPE=image/jpeg:https://hennesseysdigbeth.co.uk/website/wp-content/uploads/2025/03/LUNA-WAVES.jpg
END:VEVENT
END:VCALENDAR