BEGIN:VCALENDAR
VERSION:2.0
PRODID:-//Hennesseys Bar - Kitchen - Garden - ECPv4.9.13//NONSGML v1.0//EN
CALSCALE:GREGORIAN
METHOD:PUBLISH
X-WR-CALNAME:Hennesseys Bar - Kitchen - Garden
X-ORIGINAL-URL:https://hennesseysdigbeth.co.uk
X-WR-CALDESC:Events for Hennesseys Bar - Kitchen - Garden
BEGIN:VTIMEZONE
TZID:Europe/London
BEGIN:DAYLIGHT
TZOFFSETFROM:+0000
TZOFFSETTO:+0100
TZNAME:BST
DTSTART:20240331T010000
END:DAYLIGHT
BEGIN:STANDARD
TZOFFSETFROM:+0100
TZOFFSETTO:+0000
TZNAME:GMT
DTSTART:20241027T010000
END:STANDARD
BEGIN:DAYLIGHT
TZOFFSETFROM:+0000
TZOFFSETTO:+0100
TZNAME:BST
DTSTART:20250330T010000
END:DAYLIGHT
BEGIN:STANDARD
TZOFFSETFROM:+0100
TZOFFSETTO:+0000
TZNAME:GMT
DTSTART:20251026T010000
END:STANDARD
END:VTIMEZONE
BEGIN:VEVENT
DTSTART;TZID=Europe/London:20241206T190000
DTEND;TZID=Europe/London:20250103T233000
DTSTAMP:20260422T221431
CREATED:20241021T142429Z
LAST-MODIFIED:20241021T142429Z
UID:13559-1733511600-1735947000@hennesseysdigbeth.co.uk
SUMMARY:Under Covers
DESCRIPTION:Come and  enjoy a great night of live Music with Ben Edwards  live at Hennesseys on Friday 6th Deceember  from 8:15pm.  Delivering some classic covers from the Likes of the Beattles\, David Bowie\, Bono\, Elvis  Preesley and many more \nA great night with a great atmosphere is guaranteed. \n  \n  \n
URL:https://hennesseysdigbeth.co.uk/event/under-covers/
CATEGORIES:2024,Birmingham,Live Music
ATTACH;FMTTYPE=image/jpeg:https://hennesseysdigbeth.co.uk/website/wp-content/uploads/2024/10/6th-december.jpg
END:VEVENT
END:VCALENDAR