BEGIN:VCALENDAR
VERSION:2.0
PRODID:-//Hennesseys Bar - Kitchen - Garden - ECPv4.9.13//NONSGML v1.0//EN
CALSCALE:GREGORIAN
METHOD:PUBLISH
X-WR-CALNAME:Hennesseys Bar - Kitchen - Garden
X-ORIGINAL-URL:https://hennesseysdigbeth.co.uk
X-WR-CALDESC:Events for Hennesseys Bar - Kitchen - Garden
BEGIN:VTIMEZONE
TZID:Asia/Krasnoyarsk
BEGIN:STANDARD
TZOFFSETFROM:+0700
TZOFFSETTO:+0700
TZNAME:+07
DTSTART:20230101T000000
END:STANDARD
TZID:Europe/London
BEGIN:DAYLIGHT
TZOFFSETFROM:+0000
TZOFFSETTO:+0100
TZNAME:BST
DTSTART:20230326T010000
END:DAYLIGHT
BEGIN:STANDARD
TZOFFSETFROM:+0100
TZOFFSETTO:+0000
TZNAME:GMT
DTSTART:20231029T010000
END:STANDARD
END:VTIMEZONE
BEGIN:VEVENT
DTSTART;VALUE=DATE:20230720
DTEND;VALUE=DATE:20230821
DTSTAMP:20260423T085337
CREATED:20230713T093015Z
LAST-MODIFIED:20230713T093111Z
UID:12572-1689811200-1692575999@hennesseysdigbeth.co.uk
SUMMARY:Women World Cup 2023
DESCRIPTION:Come and watch the Womens Football World Cup  live at Hennesseys. The only  place to be to watch the Wordcup 2023. We will be showing all England Games and pretty much every other game apart from the early morning ones. \nWith our many hd screens and our spectacular big screen in our garden there’s no better place to watch the  Womens Football World Cup \n  \n  \n  \n  \n  \n
URL:https://hennesseysdigbeth.co.uk/event/womens-football-world-cup-2023/
LOCATION:Hennesseys Digbeth Birmingham\, 30-31 Allison St\, Birmingham\, Birmingham\, B5 5TJ\, United Kingdom
CATEGORIES:Womens Fifa World Cup
ATTACH;FMTTYPE=image/jpeg:https://hennesseysdigbeth.co.uk/website/wp-content/uploads/2023/07/WC.jpg
END:VEVENT
BEGIN:VEVENT
DTSTART;VALUE=DATE:20230728
DTEND;VALUE=DATE:20230807
DTSTAMP:20260423T085337
CREATED:20230713T091900Z
LAST-MODIFIED:20230713T093505Z
UID:12569-1690502400-1691366399@hennesseysdigbeth.co.uk
SUMMARY:Netball World Cup 2023
DESCRIPTION:Come and watch the Netball World Cup  live at Hennesseys. The only  place to be to watch the Netball Wordcup 2023. We will be showing all England Games and pretty much every other game apart from the early morning ones. \nWith our many hd screens and our spectacular big screen in our garden there’s no better place to watch the Netball World Cup 2023 \n  \n  \n  \n  \n  \n
URL:https://hennesseysdigbeth.co.uk/event/netballwordcup/
LOCATION:Hennesseys Digbeth Birmingham\, 30-31 Allison St\, Birmingham\, Birmingham\, B5 5TJ\, United Kingdom
ATTACH;FMTTYPE=image/jpeg:https://hennesseysdigbeth.co.uk/website/wp-content/uploads/2023/07/NETBALL-WC.jpg
END:VEVENT
BEGIN:VEVENT
DTSTART;TZID=Europe/London:20230729T160000
DTEND;TZID=Europe/London:20230729T235900
DTSTAMP:20260423T085337
CREATED:20230614T084024Z
LAST-MODIFIED:20230614T084030Z
UID:12536-1690646400-1690675140@hennesseysdigbeth.co.uk
SUMMARY:Labour of Love 3
DESCRIPTION:Come and  enjoy  live music in the Garden for Summer Saturdays  with Labour of Love 3  live at Hennesseys on Saturday 29th July from 4pm. Labour of Love 3 will be covering  all of UB40 classic hits .  A brilliant day in the sun with a great atmosphere is guaranteed. \n  \n  \n
URL:https://hennesseysdigbeth.co.uk/event/labour-of-love-3/
CATEGORIES:Live Music in the Garden,Summer Saturdays
ATTACH;FMTTYPE=image/jpeg:https://hennesseysdigbeth.co.uk/website/wp-content/uploads/2023/06/Slide11.jpg
END:VEVENT
BEGIN:VEVENT
DTSTART;TZID=Europe/London:20230729T190000
DTEND;TZID=Europe/London:20230729T235900
DTSTAMP:20260423T085337
CREATED:20230531T171324Z
LAST-MODIFIED:20230713T095237Z
UID:12482-1690657200-1690675140@hennesseysdigbeth.co.uk
SUMMARY:The Sound AKA
DESCRIPTION:Come and  enjoy a great night of live Music with The Sound AKA live at Hennesseys on Saturday 29th July from 7pm. They will be covering the Best British anthems from the likes of Madness\, The Specials\, the Jam\, Bad Manners  The Jam and Many More A great night with a great atmosphere is guaranteed. \n  \n  \n
URL:https://hennesseysdigbeth.co.uk/event/the-sound-aka/
CATEGORIES:Live Music,Saturday Night
ATTACH;FMTTYPE=image/jpeg:https://hennesseysdigbeth.co.uk/website/wp-content/uploads/2023/05/sounds-aka.jpg
END:VEVENT
END:VCALENDAR