BEGIN:VCALENDAR
VERSION:2.0
PRODID:-//Hennesseys Bar - Kitchen - Garden - ECPv4.9.13//NONSGML v1.0//EN
CALSCALE:GREGORIAN
METHOD:PUBLISH
X-WR-CALNAME:Hennesseys Bar - Kitchen - Garden
X-ORIGINAL-URL:https://hennesseysdigbeth.co.uk
X-WR-CALDESC:Events for Hennesseys Bar - Kitchen - Garden
BEGIN:VTIMEZONE
TZID:Asia/Krasnoyarsk
BEGIN:STANDARD
TZOFFSETFROM:+0700
TZOFFSETTO:+0700
TZNAME:+07
DTSTART:20230101T000000
END:STANDARD
TZID:Europe/London
BEGIN:DAYLIGHT
TZOFFSETFROM:+0000
TZOFFSETTO:+0100
TZNAME:BST
DTSTART:20230326T010000
END:DAYLIGHT
BEGIN:STANDARD
TZOFFSETFROM:+0100
TZOFFSETTO:+0000
TZNAME:GMT
DTSTART:20231029T010000
END:STANDARD
END:VTIMEZONE
BEGIN:VEVENT
DTSTART;VALUE=DATE:20230616
DTEND;VALUE=DATE:20230724
DTSTAMP:20260423T190323
CREATED:20230531T111952Z
LAST-MODIFIED:20230713T100200Z
UID:12468-1686873600-1690156799@hennesseysdigbeth.co.uk
SUMMARY:The Ashes 2023
DESCRIPTION:Come and watch  every game live for the the Ashes 2023 live at Hennesseys. The only  place to be to watch the Ashes 2023 \nWith our many hd screens and our spectacular big screen in our garden there’s no better place to watch Ashes 2023 \nThe Ashes Early Bird Table Booking Offer \nYou can book a table for £50 (you will receive a £60 tab to spend on food & drinks on the day) This offer won’t last long so be quick! \n    	\n        BOOK YOUR TABLE NOW        \n        \n  \n  \n  \n  \n  \n
URL:https://hennesseysdigbeth.co.uk/event/the-ashes-2023/
LOCATION:Hennesseys Digbeth Birmingham\, 30-31 Allison St\, Birmingham\, Birmingham\, B5 5TJ\, United Kingdom
CATEGORIES:The Ashes 2023
ATTACH;FMTTYPE=image/jpeg:https://hennesseysdigbeth.co.uk/website/wp-content/uploads/2023/05/cc.jpg
END:VEVENT
BEGIN:VEVENT
DTSTART;TZID=Europe/London:20230715T160000
DTEND;TZID=Europe/London:20230715T235900
DTSTAMP:20260423T190323
CREATED:20230614T074021Z
LAST-MODIFIED:20230614T084104Z
UID:12530-1689436800-1689465540@hennesseysdigbeth.co.uk
SUMMARY:Ash Sheehan  - Summer Saturdays
DESCRIPTION:Come and  enjoy  live music in the Garden for Summer Saturdays  with Ash Sheehan live at Hennesseys on Saturday 15th July from 4pm. Ash Sheehan  is a Multi Instrumental Solo singer covering some high Energy and fun tracks not to be missed!! .  A brilliant day in the sun with a great atmosphere is guaranteed. \n  \n  \n
URL:https://hennesseysdigbeth.co.uk/event/ash-sheehan-summer-saturdays/
CATEGORIES:Live Music in the Garden,Summer Saturdays
ATTACH;FMTTYPE=image/jpeg:https://hennesseysdigbeth.co.uk/website/wp-content/uploads/2023/06/Slide7.jpg
END:VEVENT
BEGIN:VEVENT
DTSTART;TZID=Europe/London:20230715T190000
DTEND;TZID=Europe/London:20230715T235900
DTSTAMP:20260423T190323
CREATED:20230531T164653Z
LAST-MODIFIED:20230713T095153Z
UID:12474-1689447600-1689465540@hennesseysdigbeth.co.uk
SUMMARY:Azure
DESCRIPTION:Come and  enjoy a great night of live Music with Azure live at Hennesseys on Saturday 15th July from 7pm. They will be covering sing along anthems from the likes of the Killers\, Oasis\, Erasure. The Jam and Many More A great night with a great atmosphere is guaranteed. \n  \n  \n
URL:https://hennesseysdigbeth.co.uk/event/azure/
CATEGORIES:Live Music,Saturday Night
ATTACH;FMTTYPE=image/jpeg:https://hennesseysdigbeth.co.uk/website/wp-content/uploads/2023/05/AZURE-BAND.jpg
END:VEVENT
END:VCALENDAR