BEGIN:VCALENDAR
VERSION:2.0
PRODID:-//Hennesseys Bar - Kitchen - Garden - ECPv4.9.13//NONSGML v1.0//EN
CALSCALE:GREGORIAN
METHOD:PUBLISH
X-WR-CALNAME:Hennesseys Bar - Kitchen - Garden
X-ORIGINAL-URL:https://hennesseysdigbeth.co.uk
X-WR-CALDESC:Events for Hennesseys Bar - Kitchen - Garden
BEGIN:VTIMEZONE
TZID:Europe/London
BEGIN:DAYLIGHT
TZOFFSETFROM:+0000
TZOFFSETTO:+0100
TZNAME:BST
DTSTART:20220327T010000
END:DAYLIGHT
BEGIN:STANDARD
TZOFFSETFROM:+0100
TZOFFSETTO:+0000
TZNAME:GMT
DTSTART:20221030T010000
END:STANDARD
END:VTIMEZONE
BEGIN:VEVENT
DTSTART;TZID=Europe/London:20221120T190000
DTEND;TZID=Europe/London:20221216T233000
DTSTAMP:20260423T102107
CREATED:20220526T113426Z
LAST-MODIFIED:20221004T140751Z
UID:11484-1668970800-1671233400@hennesseysdigbeth.co.uk
SUMMARY:World Cup HQ
DESCRIPTION:3 bars\, 20 screens including a giant outdoor LED screen and indoor big screen. \nAll games shown live with commentary. \nTable bookings and walk ins available for all games. \nTable bookings require a non refundable deposit of £50 returned to you as a bar tab to spend on the day. \n    	\n        BOOK YOUR TABLE NOW        \n         \n\nhttps://hennesseysdigbeth.co.uk/website/wp-content/uploads/2022/05/WhatsApp-Video-2022-10-04-at-13.16.30.mp4\n
URL:https://hennesseysdigbeth.co.uk/event/world-cup-2022/
CATEGORIES:World Cup 2022
ATTACH;FMTTYPE=image/jpeg:https://hennesseysdigbeth.co.uk/website/wp-content/uploads/2022/05/world-cup.jpg
END:VEVENT
END:VCALENDAR