BEGIN:VCALENDAR
VERSION:2.0
PRODID:-//Hennesseys Bar - Kitchen - Garden - ECPv4.9.13//NONSGML v1.0//EN
CALSCALE:GREGORIAN
METHOD:PUBLISH
X-WR-CALNAME:Hennesseys Bar - Kitchen - Garden
X-ORIGINAL-URL:https://hennesseysdigbeth.co.uk
X-WR-CALDESC:Events for Hennesseys Bar - Kitchen - Garden
BEGIN:VTIMEZONE
TZID:Europe/London
BEGIN:DAYLIGHT
TZOFFSETFROM:+0000
TZOFFSETTO:+0100
TZNAME:BST
DTSTART:20260329T010000
END:DAYLIGHT
BEGIN:STANDARD
TZOFFSETFROM:+0100
TZOFFSETTO:+0000
TZNAME:GMT
DTSTART:20261025T010000
END:STANDARD
END:VTIMEZONE
BEGIN:VEVENT
DTSTART;TZID=Europe/London:20260516T193000
DTEND;TZID=Europe/London:20260516T230000
DTSTAMP:20260422T100001
CREATED:20260417T115142Z
LAST-MODIFIED:20260417T115142Z
UID:14785-1778959800-1778972400@hennesseysdigbeth.co.uk
SUMMARY:Toney T
DESCRIPTION:Settle into a soulful Saturday night at Hennessey’s as Toney T brings a rich blend of old-skool reggae and classic soul to the stage. \n🔥 Toney T – Live📅 Saturday 16th May⏰ From 7:30pm📍 Hennessey’s \nExpect smooth grooves\, warm rhythms\, and timeless favourites delivered with style and feel. From laid-back reggae sway to soulful sing-along classics\, Toney T creates a relaxed yet uplifting atmosphere that keeps the room moving and spirits high. \nWhether you’re out for drinks with friends or just in the mood for great live music\, this is the perfect Saturday night soundtrack. \n🎤 Old skool reggae & soul🍻 Great drinks & mellow vibes🎶 Feel-good tunes all night \nFree entry – everyone welcome! \n
URL:https://hennesseysdigbeth.co.uk/event/toney-t-4/
LOCATION:Hennesseys Digbeth Birmingham\, 30-31 Allison St\, Birmingham\, Birmingham\, B5 5TJ\, United Kingdom
CATEGORIES:2026,Live Music
ATTACH;FMTTYPE=image/jpeg:https://hennesseysdigbeth.co.uk/website/wp-content/uploads/2026/04/GENERIC-TONEY-T.jpg
END:VEVENT
END:VCALENDAR