BEGIN:VCALENDAR
VERSION:2.0
PRODID:-//Hennesseys Bar - Kitchen - Garden - ECPv4.9.13//NONSGML v1.0//EN
CALSCALE:GREGORIAN
METHOD:PUBLISH
X-WR-CALNAME:Hennesseys Bar - Kitchen - Garden
X-ORIGINAL-URL:https://hennesseysdigbeth.co.uk
X-WR-CALDESC:Events for Hennesseys Bar - Kitchen - Garden
BEGIN:VTIMEZONE
TZID:Europe/London
BEGIN:DAYLIGHT
TZOFFSETFROM:+0000
TZOFFSETTO:+0100
TZNAME:BST
DTSTART:20250330T010000
END:DAYLIGHT
BEGIN:STANDARD
TZOFFSETFROM:+0100
TZOFFSETTO:+0000
TZNAME:GMT
DTSTART:20251026T010000
END:STANDARD
END:VTIMEZONE
BEGIN:VEVENT
DTSTART;TZID=Europe/London:20250411T190000
DTEND;TZID=Europe/London:20250411T233000
DTSTAMP:20260421T144128
CREATED:20250306T120602Z
LAST-MODIFIED:20250306T120602Z
UID:13917-1744398000-1744414200@hennesseysdigbeth.co.uk
SUMMARY:The Wild Irish
DESCRIPTION:Come and  enjoy a great night of live Music with the Wild Irish live at Hennesseys on Friday 11th April 2025.  The Wild Irish will be performing the best of Irish songs guaranteed to get you up on the dance floor. An evening of live music which should not be missed!!! \nA great night with a great atmosphere is guaranteed. \n  \n  \n
URL:https://hennesseysdigbeth.co.uk/event/the-wild-irish/
CATEGORIES:2025,Birmingham,Live Music
ATTACH;FMTTYPE=image/jpeg:https://hennesseysdigbeth.co.uk/website/wp-content/uploads/2025/03/wild-irish.jpg
END:VEVENT
END:VCALENDAR