BEGIN:VCALENDAR
VERSION:2.0
PRODID:-//Hennesseys Bar - Kitchen - Garden - ECPv4.9.13//NONSGML v1.0//EN
CALSCALE:GREGORIAN
METHOD:PUBLISH
X-WR-CALNAME:Hennesseys Bar - Kitchen - Garden
X-ORIGINAL-URL:https://hennesseysdigbeth.co.uk
X-WR-CALDESC:Events for Hennesseys Bar - Kitchen - Garden
BEGIN:VTIMEZONE
TZID:Europe/London
BEGIN:DAYLIGHT
TZOFFSETFROM:+0000
TZOFFSETTO:+0100
TZNAME:BST
DTSTART:20230326T010000
END:DAYLIGHT
BEGIN:STANDARD
TZOFFSETFROM:+0100
TZOFFSETTO:+0000
TZNAME:GMT
DTSTART:20231029T010000
END:STANDARD
END:VTIMEZONE
BEGIN:VEVENT
DTSTART;TZID=Europe/London:20230826T190000
DTEND;TZID=Europe/London:20230826T235900
DTSTAMP:20260422T231759
CREATED:20230713T095829Z
LAST-MODIFIED:20230713T095839Z
UID:12598-1693076400-1693094340@hennesseysdigbeth.co.uk
SUMMARY:The Urban House Experience
DESCRIPTION:Come and  enjoy a great night of live Music with The Urban House Experience live at Hennesseys on Saturday 26th August from 7pm. They will be covering House and Dance classics from  likes of Dua Lipa\, becky Hill\, Whitney and many More \nA great night with a great atmosphere is guaranteed. \n  \n  \n
URL:https://hennesseysdigbeth.co.uk/event/the-urban-house-experience-2/
CATEGORIES:Live Music,Saturday Night
ATTACH;FMTTYPE=image/jpeg:https://hennesseysdigbeth.co.uk/website/wp-content/uploads/2023/07/26th-august.jpg
END:VEVENT
END:VCALENDAR