BEGIN:VCALENDAR
VERSION:2.0
PRODID:-//Hennesseys Bar - Kitchen - Garden - ECPv4.9.13//NONSGML v1.0//EN
CALSCALE:GREGORIAN
METHOD:PUBLISH
X-WR-CALNAME:Hennesseys Bar - Kitchen - Garden
X-ORIGINAL-URL:https://hennesseysdigbeth.co.uk
X-WR-CALDESC:Events for Hennesseys Bar - Kitchen - Garden
BEGIN:VTIMEZONE
TZID:Europe/London
BEGIN:DAYLIGHT
TZOFFSETFROM:+0000
TZOFFSETTO:+0100
TZNAME:BST
DTSTART:20250330T010000
END:DAYLIGHT
BEGIN:STANDARD
TZOFFSETFROM:+0100
TZOFFSETTO:+0000
TZNAME:GMT
DTSTART:20251026T010000
END:STANDARD
END:VTIMEZONE
BEGIN:VEVENT
DTSTART;TZID=Europe/London:20251227T190000
DTEND;TZID=Europe/London:20251227T233000
DTSTAMP:20260423T094654
CREATED:20251113T121137Z
LAST-MODIFIED:20251113T121137Z
UID:14440-1766862000-1766878200@hennesseysdigbeth.co.uk
SUMMARY:The UB40 Experience
DESCRIPTION:Join us for an incredible night of live music! \nThe UB40 Experience performing live at Hennessey’s on Saturday\, 27th December from 7:30pm. \nGet ready for a reggae pop extravagancer performing all of  UB40’s greatest hits\, guaranteed to get you singing from the rafter’s and get you in that Christmas party mood! \nDon’t miss it!! a fantastic night and amazing atmosphere are guaranteed! \n  \n  \n
URL:https://hennesseysdigbeth.co.uk/event/the-ub40-experience-4/
CATEGORIES:2025,Live Music
ATTACH;FMTTYPE=image/jpeg:https://hennesseysdigbeth.co.uk/website/wp-content/uploads/2025/11/8SAT-27TH-UB40.jpg
END:VEVENT
END:VCALENDAR