BEGIN:VCALENDAR
VERSION:2.0
PRODID:-//Hennesseys Bar - Kitchen - Garden - ECPv4.9.13//NONSGML v1.0//EN
CALSCALE:GREGORIAN
METHOD:PUBLISH
X-WR-CALNAME:Hennesseys Bar - Kitchen - Garden
X-ORIGINAL-URL:https://hennesseysdigbeth.co.uk
X-WR-CALDESC:Events for Hennesseys Bar - Kitchen - Garden
BEGIN:VTIMEZONE
TZID:Europe/London
BEGIN:DAYLIGHT
TZOFFSETFROM:+0000
TZOFFSETTO:+0100
TZNAME:BST
DTSTART:20220327T010000
END:DAYLIGHT
BEGIN:STANDARD
TZOFFSETFROM:+0100
TZOFFSETTO:+0000
TZNAME:GMT
DTSTART:20221030T010000
END:STANDARD
END:VTIMEZONE
BEGIN:VEVENT
DTSTART;TZID=Europe/London:20220610T190000
DTEND;TZID=Europe/London:20220611T000000
DTSTAMP:20260425T114310
CREATED:20220505T132126Z
LAST-MODIFIED:20220606T131048Z
UID:11393-1654887600-1654905600@hennesseysdigbeth.co.uk
SUMMARY:The UB40 Experience
DESCRIPTION: \nCome down and enjoy the UB40 experience at Hennesseys ton Friday 10th June 2022 \nDoors open from 7pm\, anticipated start times  9pm – break at 9.45\, return 10.15 – 11.15 finish bar open until 1am \nThe UB40 experience are a 7 man tribute to the kings of reggae including a 3 man horn section. \nThe band have been joined on stage  by UB40 members on many occasions & perform regular shows at Butlins /tribfest expect to hear all your favourite hits from the last 4 decades \nEARLY BIRD TICKETS SOLD OUT\nSTANDARD TICKETS AVAILABLE \n  \n\n					.button-button_button_17.btn-default:hover{background-color:#E18A07;color:#fff;box-shadow: 0 0 25px -3px #E18A07;}\n					.button-button_button_17.btn-default{color:#E18A07;}\n					.button-button_button_17.btn-default .btn-icon{color:#E18A07;}\n					.button-button_button_17.btn-default:hover .btn-icon{color:#fff;}\n				    	\n        BOOK YOUR TICKETS        \n        \n \n \n  \n  \n  \n  \n  \n
URL:https://hennesseysdigbeth.co.uk/event/the-ub40-experience-2/
LOCATION:Hennesseys Digbeth Birmingham\, 30-31 Allison St\, Birmingham\, Birmingham\, B5 5TJ\, United Kingdom
CATEGORIES:Live Music,UB40
ATTACH;FMTTYPE=image/jpeg:https://hennesseysdigbeth.co.uk/website/wp-content/uploads/2022/05/WhatsApp-Image-2022-05-05-at-4.29.24-PM.jpeg
END:VEVENT
END:VCALENDAR