BEGIN:VCALENDAR
VERSION:2.0
PRODID:-//Hennesseys Bar - Kitchen - Garden - ECPv4.9.13//NONSGML v1.0//EN
CALSCALE:GREGORIAN
METHOD:PUBLISH
X-WR-CALNAME:Hennesseys Bar - Kitchen - Garden
X-ORIGINAL-URL:https://hennesseysdigbeth.co.uk
X-WR-CALDESC:Events for Hennesseys Bar - Kitchen - Garden
BEGIN:VTIMEZONE
TZID:Europe/London
BEGIN:DAYLIGHT
TZOFFSETFROM:+0000
TZOFFSETTO:+0100
TZNAME:BST
DTSTART:20230326T010000
END:DAYLIGHT
BEGIN:STANDARD
TZOFFSETFROM:+0100
TZOFFSETTO:+0000
TZNAME:GMT
DTSTART:20231029T010000
END:STANDARD
END:VTIMEZONE
BEGIN:VEVENT
DTSTART;TZID=Europe/London:20230624T160000
DTEND;TZID=Europe/London:20230624T235900
DTSTAMP:20260422T155241
CREATED:20230614T064416Z
LAST-MODIFIED:20230614T083600Z
UID:12515-1687622400-1687651140@hennesseysdigbeth.co.uk
SUMMARY:On The Sesh
DESCRIPTION:Come and  enjoy  live music in the Garden for Summer Saturdays  with On the Sesh live at Hennesseys on Saturday 24th June from 4pm. They will be covering lively cover tracks with some Irish Classics  A brilliant day in the sun with a great atmosphere is guaranteed. \n  \n  \n
URL:https://hennesseysdigbeth.co.uk/event/the-sound-aka-2/
CATEGORIES:Live Music in the Garden,Summer Saturdays
ATTACH;FMTTYPE=image/jpeg:https://hennesseysdigbeth.co.uk/website/wp-content/uploads/2023/06/Slide1.jpg
END:VEVENT
END:VCALENDAR