BEGIN:VCALENDAR
VERSION:2.0
PRODID:-//Hennesseys Bar - Kitchen - Garden - ECPv4.9.13//NONSGML v1.0//EN
CALSCALE:GREGORIAN
METHOD:PUBLISH
X-WR-CALNAME:Hennesseys Bar - Kitchen - Garden
X-ORIGINAL-URL:https://hennesseysdigbeth.co.uk
X-WR-CALDESC:Events for Hennesseys Bar - Kitchen - Garden
BEGIN:VTIMEZONE
TZID:Europe/London
BEGIN:DAYLIGHT
TZOFFSETFROM:+0000
TZOFFSETTO:+0100
TZNAME:BST
DTSTART:20230326T010000
END:DAYLIGHT
BEGIN:STANDARD
TZOFFSETFROM:+0100
TZOFFSETTO:+0000
TZNAME:GMT
DTSTART:20231029T010000
END:STANDARD
END:VTIMEZONE
BEGIN:VEVENT
DTSTART;TZID=Europe/London:20230819T190000
DTEND;TZID=Europe/London:20230819T235900
DTSTAMP:20260422T214638
CREATED:20230713T094616Z
LAST-MODIFIED:20230713T094616Z
UID:12584-1692471600-1692489540@hennesseysdigbeth.co.uk
SUMMARY:The Jo Baldwin Project
DESCRIPTION:Come and  enjoy a great night of live Music with The Jo Baldwin Project live at Hennesseys on Saturday 19th August from 7pm. They will be covering some of the greatest party anthems\, \nA great night with a great atmosphere is guaranteed. \n  \n  \n
URL:https://hennesseysdigbeth.co.uk/event/the-jo-baldwin-project/
CATEGORIES:Live Music,Saturday Night
ATTACH;FMTTYPE=image/jpeg:https://hennesseysdigbeth.co.uk/website/wp-content/uploads/2023/07/19th-august.jpg
END:VEVENT
END:VCALENDAR