BEGIN:VCALENDAR
VERSION:2.0
PRODID:-//Hennesseys Bar - Kitchen - Garden - ECPv4.9.13//NONSGML v1.0//EN
CALSCALE:GREGORIAN
METHOD:PUBLISH
X-WR-CALNAME:Hennesseys Bar - Kitchen - Garden
X-ORIGINAL-URL:https://hennesseysdigbeth.co.uk
X-WR-CALDESC:Events for Hennesseys Bar - Kitchen - Garden
BEGIN:VTIMEZONE
TZID:Europe/London
BEGIN:DAYLIGHT
TZOFFSETFROM:+0000
TZOFFSETTO:+0100
TZNAME:BST
DTSTART:20240331T010000
END:DAYLIGHT
BEGIN:STANDARD
TZOFFSETFROM:+0100
TZOFFSETTO:+0000
TZNAME:GMT
DTSTART:20241027T010000
END:STANDARD
END:VTIMEZONE
BEGIN:VEVENT
DTSTART;TZID=Europe/London:20240504T190000
DTEND;TZID=Europe/London:20240504T233000
DTSTAMP:20260423T095016
CREATED:20240429T095223Z
LAST-MODIFIED:20240429T095223Z
UID:13114-1714849200-1714865400@hennesseysdigbeth.co.uk
SUMMARY:The jewel Band
DESCRIPTION:Come and  enjoy a superb night of live Music with The Jewel Band  live at Hennesseys on Saturday 4th May from 7pm. This band will be covering  classics from the liks of Pink\, Lady Gaga\, The killers\, .Amy Whine House and many more \nA great night with a great atmosphere is guaranteed. \n  \n  \n
URL:https://hennesseysdigbeth.co.uk/event/the-jewel-band/
CATEGORIES:2024,Birmingham,Live Music,Saturday Night
ATTACH;FMTTYPE=image/jpeg:https://hennesseysdigbeth.co.uk/website/wp-content/uploads/2024/04/the-jewels-band.jpg
END:VEVENT
END:VCALENDAR