BEGIN:VCALENDAR
VERSION:2.0
PRODID:-//Hennesseys Bar - Kitchen - Garden - ECPv4.9.13//NONSGML v1.0//EN
CALSCALE:GREGORIAN
METHOD:PUBLISH
X-WR-CALNAME:Hennesseys Bar - Kitchen - Garden
X-ORIGINAL-URL:https://hennesseysdigbeth.co.uk
X-WR-CALDESC:Events for Hennesseys Bar - Kitchen - Garden
BEGIN:VTIMEZONE
TZID:Asia/Krasnoyarsk
BEGIN:STANDARD
TZOFFSETFROM:+0700
TZOFFSETTO:+0700
TZNAME:+07
DTSTART:20220101T000000
END:STANDARD
END:VTIMEZONE
BEGIN:VEVENT
DTSTART;VALUE=DATE:20220205
DTEND;VALUE=DATE:20220320
DTSTAMP:20260424T090925
CREATED:20220106T145253Z
LAST-MODIFIED:20220106T145743Z
UID:11073-1644019200-1647734399@hennesseysdigbeth.co.uk
SUMMARY:The Six Nations 2022
DESCRIPTION:Come and watch  every game live for the Six Nations 2022 live at Hennesseys. The only  place to be to watch the Six Nations tournament \nWith our many hd screens and our spectacular big screen in our garden there’s no better place to watch Six Nations Rugby  event. \n    	    	\n            \n            	                \n                	\n                \n                            \n            \n                We are only taking bookings for our basement bar & games room\, the garden & main bar will be first come first served             \n            \n        \n        			\n        #leaf-icon-box-1 .ia-icon{ color: #; border-color: #}#leaf-icon-box-1 .ia-icon:hover\, #leaf-icon-box-1:hover .ia-icon{ background: #; border-color: #; color:#fff; box-shadow: 0 0 25px -3px #;}        \n    \nBasement Bar with Big screen & multiscreen \nYou can book a table in our basement for £50 (you will receive a £50 tab to spend on food 7 drinks on the day) \n    	\n        BOOK YOUR TABLE NOW        \n        \n  \n  \n  \n  \n
URL:https://hennesseysdigbeth.co.uk/event/the-finals-of-the-six-nations/
LOCATION:Hennesseys Digbeth Birmingham\, 30-31 Allison St\, Birmingham\, Birmingham\, B5 5TJ\, United Kingdom
ATTACH;FMTTYPE=image/jpeg:https://hennesseysdigbeth.co.uk/website/wp-content/uploads/2020/01/bannernew1.jpg
END:VEVENT
END:VCALENDAR