BEGIN:VCALENDAR
VERSION:2.0
PRODID:-//Hennesseys Bar - Kitchen - Garden - ECPv4.9.13//NONSGML v1.0//EN
CALSCALE:GREGORIAN
METHOD:PUBLISH
X-WR-CALNAME:Hennesseys Bar - Kitchen - Garden
X-ORIGINAL-URL:https://hennesseysdigbeth.co.uk
X-WR-CALDESC:Events for Hennesseys Bar - Kitchen - Garden
BEGIN:VTIMEZONE
TZID:Europe/London
BEGIN:DAYLIGHT
TZOFFSETFROM:+0000
TZOFFSETTO:+0100
TZNAME:BST
DTSTART:20230326T010000
END:DAYLIGHT
BEGIN:STANDARD
TZOFFSETFROM:+0100
TZOFFSETTO:+0000
TZNAME:GMT
DTSTART:20231029T010000
END:STANDARD
END:VTIMEZONE
BEGIN:VEVENT
DTSTART;TZID=Europe/London:20230923T190000
DTEND;TZID=Europe/London:20230923T235900
DTSTAMP:20260423T014828
CREATED:20230829T103732Z
LAST-MODIFIED:20230829T103732Z
UID:12665-1695495600-1695513540@hennesseysdigbeth.co.uk
SUMMARY:The Dysfunctionals
DESCRIPTION:Come and  enjoy a great night of live Music with The Dysfunctionals live at Hennesseys on Saturday 23rd September from 7pm. This brand new Birmingham band will be covering sing along classics anthems from across the decades\, \nDJ on til llate straight after the Live band.  A great night with a great atmosphere is guaranteed. \n  \n  \n
URL:https://hennesseysdigbeth.co.uk/event/the-dysfunctionals/
CATEGORIES:Birmingham,Live Music,Saturday Night
ATTACH;FMTTYPE=image/jpeg:https://hennesseysdigbeth.co.uk/website/wp-content/uploads/2023/08/23RD-SEPT.jpg
END:VEVENT
END:VCALENDAR