BEGIN:VCALENDAR
VERSION:2.0
PRODID:-//Hennesseys Bar - Kitchen - Garden - ECPv4.9.13//NONSGML v1.0//EN
CALSCALE:GREGORIAN
METHOD:PUBLISH
X-WR-CALNAME:Hennesseys Bar - Kitchen - Garden
X-ORIGINAL-URL:https://hennesseysdigbeth.co.uk
X-WR-CALDESC:Events for Hennesseys Bar - Kitchen - Garden
BEGIN:VTIMEZONE
TZID:Europe/London
BEGIN:DAYLIGHT
TZOFFSETFROM:+0000
TZOFFSETTO:+0100
TZNAME:BST
DTSTART:20250330T010000
END:DAYLIGHT
BEGIN:STANDARD
TZOFFSETFROM:+0100
TZOFFSETTO:+0000
TZNAME:GMT
DTSTART:20251026T010000
END:STANDARD
END:VTIMEZONE
BEGIN:VEVENT
DTSTART;TZID=Europe/London:20250510T190000
DTEND;TZID=Europe/London:20250510T233000
DTSTAMP:20260421T140408
CREATED:20250416T072530Z
LAST-MODIFIED:20250416T072530Z
UID:14036-1746903600-1746919800@hennesseysdigbeth.co.uk
SUMMARY:The Cover Ducks
DESCRIPTION:Come and  enjoy a great night of live Music with Tony T live at Hennesseys on Saturday 10th May 2025  from 7:30pm.  Playing a variety of outstanding covers with a twist. Female led cover band guaranteed to get you on your feet. Not to be missed!! \nA great night with a great atmosphere is guaranteed. \n  \n  \n
URL:https://hennesseysdigbeth.co.uk/event/the-cover-ducks/
CATEGORIES:2025,Birmingham,Live Music
ATTACH;FMTTYPE=image/jpeg:https://hennesseysdigbeth.co.uk/website/wp-content/uploads/2025/04/the-cover-ducks.jpg
END:VEVENT
END:VCALENDAR