BEGIN:VCALENDAR
VERSION:2.0
PRODID:-//Hennesseys Bar - Kitchen - Garden - ECPv4.9.13//NONSGML v1.0//EN
CALSCALE:GREGORIAN
METHOD:PUBLISH
X-WR-CALNAME:Hennesseys Bar - Kitchen - Garden
X-ORIGINAL-URL:https://hennesseysdigbeth.co.uk
X-WR-CALDESC:Events for Hennesseys Bar - Kitchen - Garden
BEGIN:VTIMEZONE
TZID:Europe/London
BEGIN:DAYLIGHT
TZOFFSETFROM:+0000
TZOFFSETTO:+0100
TZNAME:BST
DTSTART:20230326T010000
END:DAYLIGHT
BEGIN:STANDARD
TZOFFSETFROM:+0100
TZOFFSETTO:+0000
TZNAME:GMT
DTSTART:20231029T010000
END:STANDARD
END:VTIMEZONE
BEGIN:VEVENT
DTSTART;TZID=Europe/London:20230701T190000
DTEND;TZID=Europe/London:20230701T235900
DTSTAMP:20260422T155049
CREATED:20230531T123944Z
LAST-MODIFIED:20230531T124019Z
UID:12464-1688238000-1688255940@hennesseysdigbeth.co.uk
SUMMARY:The Coast
DESCRIPTION:Come and  enjoy and a great of live Music with the Coast  live at Hennesseys on Saturday 1st July from 7pm. They will be covering classics hits and modern anthem. A great night with a great atmosphere is guaranteed. \n  \n  \n
URL:https://hennesseysdigbeth.co.uk/event/the-coast/
CATEGORIES:Live Music,Saturday Night
ATTACH;FMTTYPE=image/jpeg:https://hennesseysdigbeth.co.uk/website/wp-content/uploads/2023/05/coast.jpg
END:VEVENT
END:VCALENDAR