BEGIN:VCALENDAR
VERSION:2.0
PRODID:-//Hennesseys Bar - Kitchen - Garden - ECPv4.9.13//NONSGML v1.0//EN
CALSCALE:GREGORIAN
METHOD:PUBLISH
X-WR-CALNAME:Hennesseys Bar - Kitchen - Garden
X-ORIGINAL-URL:https://hennesseysdigbeth.co.uk
X-WR-CALDESC:Events for Hennesseys Bar - Kitchen - Garden
BEGIN:VTIMEZONE
TZID:Europe/London
BEGIN:DAYLIGHT
TZOFFSETFROM:+0000
TZOFFSETTO:+0100
TZNAME:BST
DTSTART:20210328T010000
END:DAYLIGHT
BEGIN:STANDARD
TZOFFSETFROM:+0100
TZOFFSETTO:+0000
TZNAME:GMT
DTSTART:20211031T010000
END:STANDARD
END:VTIMEZONE
BEGIN:VEVENT
DTSTART;VALUE=DATE:20210731
DTEND;VALUE=DATE:20210801
DTSTAMP:20260424T035706
CREATED:20210521T140551Z
LAST-MODIFIED:20210521T141157Z
UID:9738-1627689600-1627775999@hennesseysdigbeth.co.uk
SUMMARY:The British and Irish lions Tour - Sat 31st July
DESCRIPTION:Saturday 31th July The British and Irish Lions v South Africa 4PM KO \nCome and enjoy he British and Irish Lions v South Africa Live with commentary. Garden bar with huge LED screen and stadium atmosphere. Main air conditioned  Bar with 14 HD Multi screens. \nNEW for 2021 our new Basement Bar will be open with 2 big screens and 5 Ultra HD TVs \n\nTable bookings cost £50 and you will recieve a £50 bar tab on the day\n\nTo make a booking click table booking button below \n    	\n        Book Your Table Now        \n        \n  \n \n
URL:https://hennesseysdigbeth.co.uk/event/the-british-and-irish-lions-tour-sat-31st-july/
CATEGORIES:British and Irish lions tour
ATTACH;FMTTYPE=image/jpeg:https://hennesseysdigbeth.co.uk/website/wp-content/uploads/2021/05/Lions.jpg
END:VEVENT
END:VCALENDAR