BEGIN:VCALENDAR
VERSION:2.0
PRODID:-//Hennesseys Bar - Kitchen - Garden - ECPv4.9.13//NONSGML v1.0//EN
CALSCALE:GREGORIAN
METHOD:PUBLISH
X-WR-CALNAME:Hennesseys Bar - Kitchen - Garden
X-ORIGINAL-URL:https://hennesseysdigbeth.co.uk
X-WR-CALDESC:Events for Hennesseys Bar - Kitchen - Garden
BEGIN:VTIMEZONE
TZID:Europe/London
BEGIN:DAYLIGHT
TZOFFSETFROM:+0000
TZOFFSETTO:+0100
TZNAME:BST
DTSTART:20240331T010000
END:DAYLIGHT
BEGIN:STANDARD
TZOFFSETFROM:+0100
TZOFFSETTO:+0000
TZNAME:GMT
DTSTART:20241027T010000
END:STANDARD
END:VTIMEZONE
BEGIN:VEVENT
DTSTART;TZID=Europe/London:20241026T190000
DTEND;TZID=Europe/London:20241026T233000
DTSTAMP:20260422T105112
CREATED:20240924T145545Z
LAST-MODIFIED:20240927T160941Z
UID:13490-1729969200-1729985400@hennesseysdigbeth.co.uk
SUMMARY:The Beards
DESCRIPTION:Come and  enjoy a great night of live Music with the Beards live at Hennesseys on Saturday 26th October from 7pm.  performing a mix of classic anthems and modern chart-toppers\, and are known for keeping the party going all night long. \nA great night with a great atmosphere is guaranteed. \n  \n  \n
URL:https://hennesseysdigbeth.co.uk/event/the-beards/
CATEGORIES:2024,Birmingham,Live Music
ATTACH;FMTTYPE=image/jpeg:https://hennesseysdigbeth.co.uk/website/wp-content/uploads/2024/09/Slide8.jpg
END:VEVENT
END:VCALENDAR