BEGIN:VCALENDAR
VERSION:2.0
PRODID:-//Hennesseys Bar - Kitchen - Garden - ECPv4.9.13//NONSGML v1.0//EN
CALSCALE:GREGORIAN
METHOD:PUBLISH
X-WR-CALNAME:Hennesseys Bar - Kitchen - Garden
X-ORIGINAL-URL:https://hennesseysdigbeth.co.uk
X-WR-CALDESC:Events for Hennesseys Bar - Kitchen - Garden
BEGIN:VTIMEZONE
TZID:Europe/London
BEGIN:DAYLIGHT
TZOFFSETFROM:+0000
TZOFFSETTO:+0100
TZNAME:BST
DTSTART:20250330T010000
END:DAYLIGHT
BEGIN:STANDARD
TZOFFSETFROM:+0100
TZOFFSETTO:+0000
TZNAME:GMT
DTSTART:20251026T010000
END:STANDARD
END:VTIMEZONE
BEGIN:VEVENT
DTSTART;TZID=Europe/London:20251129T190000
DTEND;TZID=Europe/London:20251129T233000
DTSTAMP:20260421T094148
CREATED:20251017T123143Z
LAST-MODIFIED:20251017T123143Z
UID:14403-1764442800-1764459000@hennesseysdigbeth.co.uk
SUMMARY:The Beards
DESCRIPTION:Get ready for an epic night of live music! \nJoin us at Hennessey’s on Saturday\, 29th November from 7:30pm for an incredible live performance by The Beards! \nEnjoy unique covers of the greatest Rock and Pop artists and soak up the amazing atmosphere.Don’t miss out\, it’s going to be a night to remember! \n  \n  \n
URL:https://hennesseysdigbeth.co.uk/event/the-beards-2/
CATEGORIES:2025,Live Music
ATTACH;FMTTYPE=image/jpeg:https://hennesseysdigbeth.co.uk/website/wp-content/uploads/2025/10/the-beards.jpg
END:VEVENT
END:VCALENDAR