BEGIN:VCALENDAR
VERSION:2.0
PRODID:-//Hennesseys Bar - Kitchen - Garden - ECPv4.9.13//NONSGML v1.0//EN
CALSCALE:GREGORIAN
METHOD:PUBLISH
X-WR-CALNAME:Hennesseys Bar - Kitchen - Garden
X-ORIGINAL-URL:https://hennesseysdigbeth.co.uk
X-WR-CALDESC:Events for Hennesseys Bar - Kitchen - Garden
BEGIN:VTIMEZONE
TZID:Europe/London
BEGIN:DAYLIGHT
TZOFFSETFROM:+0000
TZOFFSETTO:+0100
TZNAME:BST
DTSTART:20250330T010000
END:DAYLIGHT
BEGIN:STANDARD
TZOFFSETFROM:+0100
TZOFFSETTO:+0000
TZNAME:GMT
DTSTART:20251026T010000
END:STANDARD
END:VTIMEZONE
BEGIN:VEVENT
DTSTART;TZID=Europe/London:20250525T190000
DTEND;TZID=Europe/London:20250525T233000
DTSTAMP:20260421T094202
CREATED:20250521T151452Z
LAST-MODIFIED:20250521T151509Z
UID:14117-1748199600-1748215800@hennesseysdigbeth.co.uk
SUMMARY:Taylormade
DESCRIPTION:Come and  enjoy a great night of live Music with Taylormade at Hennesseys this bank Holiday on Sunday 25th May 2025  from 7:30pm.  A variety of outstanding cover including Amy MacDonald\, Fleetwood\, Phil Collins and many More. Not too be missed. \nA great night with a great atmosphere is guaranteed. \n  \n  \n
URL:https://hennesseysdigbeth.co.uk/event/taylormade/
CATEGORIES:2025,Birmingham,Live Music
ATTACH;FMTTYPE=image/jpeg:https://hennesseysdigbeth.co.uk/website/wp-content/uploads/2025/05/h1.jpg
END:VEVENT
END:VCALENDAR