BEGIN:VCALENDAR
VERSION:2.0
PRODID:-//Hennesseys Bar - Kitchen - Garden - ECPv4.9.13//NONSGML v1.0//EN
CALSCALE:GREGORIAN
METHOD:PUBLISH
X-WR-CALNAME:Hennesseys Bar - Kitchen - Garden
X-ORIGINAL-URL:https://hennesseysdigbeth.co.uk
X-WR-CALDESC:Events for Hennesseys Bar - Kitchen - Garden
BEGIN:VTIMEZONE
TZID:Europe/London
BEGIN:DAYLIGHT
TZOFFSETFROM:+0000
TZOFFSETTO:+0100
TZNAME:BST
DTSTART:20250330T010000
END:DAYLIGHT
BEGIN:STANDARD
TZOFFSETFROM:+0100
TZOFFSETTO:+0000
TZNAME:GMT
DTSTART:20251026T010000
END:STANDARD
END:VTIMEZONE
BEGIN:VEVENT
DTSTART;TZID=Europe/London:20250726T143000
DTEND;TZID=Europe/London:20250726T233000
DTSTAMP:20260424T101515
CREATED:20250516T152151Z
LAST-MODIFIED:20250516T152515Z
UID:14099-1753540200-1753572600@hennesseysdigbeth.co.uk
SUMMARY:Summer Saturdays - 26th July
DESCRIPTION: Join us this Saturday 26th July for a day of live music\, refreshing drinks\, and good vibes. \n🎶 Live Music 3 PM – Bang on the ear – Celtic Rock\, Folk and POP\n🎶 Live Music 6:30 PM – On the Sesh – Rock\, Pop Soul and Irish \n🎧 Live DJ til Late – As the sun sets\, the dance floor heats up with our DJ spinning the hottest tracks to keep the party going. \nGrab your friends\, sip on a cold one\, and let the summer vibes take over. Hennessey’s – Your Saturday destination for unforgettable summer beats and great times! \nA great day and night with a great atmosphere is guaranteed. \n  \n  \n
URL:https://hennesseysdigbeth.co.uk/event/summer-saturdays-26th-july/
CATEGORIES:2025,Birmingham,Live Music,Summer Saturdays
ATTACH;FMTTYPE=image/png:https://hennesseysdigbeth.co.uk/website/wp-content/uploads/2025/05/9.png
END:VEVENT
END:VCALENDAR