BEGIN:VCALENDAR
VERSION:2.0
PRODID:-//Hennesseys Bar - Kitchen - Garden - ECPv4.9.13//NONSGML v1.0//EN
CALSCALE:GREGORIAN
METHOD:PUBLISH
X-WR-CALNAME:Hennesseys Bar - Kitchen - Garden
X-ORIGINAL-URL:https://hennesseysdigbeth.co.uk
X-WR-CALDESC:Events for Hennesseys Bar - Kitchen - Garden
BEGIN:VTIMEZONE
TZID:Asia/Krasnoyarsk
BEGIN:STANDARD
TZOFFSETFROM:+0700
TZOFFSETTO:+0700
TZNAME:+07
DTSTART:20240101T000000
END:STANDARD
END:VTIMEZONE
BEGIN:VEVENT
DTSTART;VALUE=DATE:20240317
DTEND;VALUE=DATE:20240318
DTSTAMP:20260422T195601
CREATED:20240219T101454Z
LAST-MODIFIED:20240219T101454Z
UID:13008-1710633600-1710719999@hennesseysdigbeth.co.uk
SUMMARY:St Patricks Parade Day
DESCRIPTION:Come and enjoy The St Patricks Day Parade 2024 at Hennessey’s with the best live music and atmosphere in Birmingham \nLIVE BANDS FROM 12 NOON ALL DAY – DOORS OPEN FROM 10 AM | FREE ENTRY BEFORE 1PM \n21 YEARS AND ABOVE ONLY \n \n  \n  \n  \n  \n  \n  \n
URL:https://hennesseysdigbeth.co.uk/event/st-patricks-parade-day-2/
LOCATION:Hennesseys Digbeth Birmingham\, 30-31 Allison St\, Birmingham\, Birmingham\, B5 5TJ\, United Kingdom
ATTACH;FMTTYPE=image/jpeg:https://hennesseysdigbeth.co.uk/website/wp-content/uploads/2022/01/st-P.jpg
END:VEVENT
END:VCALENDAR