BEGIN:VCALENDAR
VERSION:2.0
PRODID:-//Hennesseys Bar - Kitchen - Garden - ECPv4.9.13//NONSGML v1.0//EN
CALSCALE:GREGORIAN
METHOD:PUBLISH
X-WR-CALNAME:Hennesseys Bar - Kitchen - Garden
X-ORIGINAL-URL:https://hennesseysdigbeth.co.uk
X-WR-CALDESC:Events for Hennesseys Bar - Kitchen - Garden
BEGIN:VTIMEZONE
TZID:Asia/Krasnoyarsk
BEGIN:STANDARD
TZOFFSETFROM:+0700
TZOFFSETTO:+0700
TZNAME:+07
DTSTART:20230101T000000
END:STANDARD
END:VTIMEZONE
BEGIN:VEVENT
DTSTART;VALUE=DATE:20230317
DTEND;VALUE=DATE:20230318
DTSTAMP:20260423T091944
CREATED:20230116T110429Z
LAST-MODIFIED:20230116T110447Z
UID:12045-1679011200-1679097599@hennesseysdigbeth.co.uk
SUMMARY:St Patricks Day
DESCRIPTION:Come and enjoy The St Patricks Day at Hennessey’s with the best live music and atmosphere in Birmingham \nWe will be showing the Cheltenham festival all day as well as a bit of irish music and food \n    \n    	\n                	Live Music and Comedy                 \n        \n    \n    \nLIVE MUSIC BANDS TBA \n  \n    	\n        BOOK YOUR TABLE NOW        \n        \n  \n  \n  \n  \n  \n
URL:https://hennesseysdigbeth.co.uk/event/st-patricks-day-3/
LOCATION:Hennesseys Digbeth Birmingham\, 30-31 Allison St\, Birmingham\, Birmingham\, B5 5TJ\, United Kingdom
ATTACH;FMTTYPE=image/jpeg:https://hennesseysdigbeth.co.uk/website/wp-content/uploads/2023/01/st-Patrick-2023.jpg
END:VEVENT
END:VCALENDAR