BEGIN:VCALENDAR
VERSION:2.0
PRODID:-//Hennesseys Bar - Kitchen - Garden - ECPv4.9.13//NONSGML v1.0//EN
CALSCALE:GREGORIAN
METHOD:PUBLISH
X-WR-CALNAME:Hennesseys Bar - Kitchen - Garden
X-ORIGINAL-URL:https://hennesseysdigbeth.co.uk
X-WR-CALDESC:Events for Hennesseys Bar - Kitchen - Garden
BEGIN:VTIMEZONE
TZID:Europe/London
BEGIN:DAYLIGHT
TZOFFSETFROM:+0000
TZOFFSETTO:+0100
TZNAME:BST
DTSTART:20230326T010000
END:DAYLIGHT
BEGIN:STANDARD
TZOFFSETFROM:+0100
TZOFFSETTO:+0000
TZNAME:GMT
DTSTART:20231029T010000
END:STANDARD
END:VTIMEZONE
BEGIN:VEVENT
DTSTART;VALUE=DATE:20230603
DTEND;VALUE=DATE:20230604
DTSTAMP:20260422T221138
CREATED:20230504T092845Z
LAST-MODIFIED:20230713T094651Z
UID:12414-1685750400-1685836799@hennesseysdigbeth.co.uk
SUMMARY:Snap Crackle and Britpop
DESCRIPTION:Come and  enjoy a great night of live Music with Snap Crackle and Britpop live at Hennesseys on Saturday 3d June from 7pm. There will be Britpop and Indie anthems throughout including Oasis\, Blur\, the Pulp and some cheeky surprises. \n  \n  \n
URL:https://hennesseysdigbeth.co.uk/event/snap-crackle-and-britpop/
CATEGORIES:Live Music,Saturday Night
ATTACH;FMTTYPE=image/jpeg:https://hennesseysdigbeth.co.uk/website/wp-content/uploads/2023/05/b1bop.jpg
END:VEVENT
END:VCALENDAR