BEGIN:VCALENDAR
VERSION:2.0
PRODID:-//Hennesseys Bar - Kitchen - Garden - ECPv4.9.13//NONSGML v1.0//EN
CALSCALE:GREGORIAN
METHOD:PUBLISH
X-WR-CALNAME:Hennesseys Bar - Kitchen - Garden
X-ORIGINAL-URL:https://hennesseysdigbeth.co.uk
X-WR-CALDESC:Events for Hennesseys Bar - Kitchen - Garden
BEGIN:VTIMEZONE
TZID:Europe/London
BEGIN:DAYLIGHT
TZOFFSETFROM:+0000
TZOFFSETTO:+0100
TZNAME:BST
DTSTART:20230326T010000
END:DAYLIGHT
BEGIN:STANDARD
TZOFFSETFROM:+0100
TZOFFSETTO:+0000
TZNAME:GMT
DTSTART:20231029T010000
END:STANDARD
END:VTIMEZONE
BEGIN:VEVENT
DTSTART;VALUE=DATE:20230617
DTEND;VALUE=DATE:20230618
DTSTAMP:20260422T185755
CREATED:20230504T093526Z
LAST-MODIFIED:20230713T094708Z
UID:12422-1686960000-1687046399@hennesseysdigbeth.co.uk
SUMMARY:Me\, him and the Others
DESCRIPTION:Come and  enjoy a great night of live Music with Me\, him and the Others live at Hennesseys on Saturday 17th June from 7pm. \nPerforming classic sing along anthems and covers from the 70’s to present day. A great Atmosphere and a great night is guaranteed!! \n  \n  \n
URL:https://hennesseysdigbeth.co.uk/event/snap-crackle-and-britpop-3/
CATEGORIES:Live Music,Saturday Night
ATTACH;FMTTYPE=image/jpeg:https://hennesseysdigbeth.co.uk/website/wp-content/uploads/2023/05/1m.jpg
END:VEVENT
END:VCALENDAR