BEGIN:VCALENDAR
VERSION:2.0
PRODID:-//Hennesseys Bar - Kitchen - Garden - ECPv4.9.13//NONSGML v1.0//EN
CALSCALE:GREGORIAN
METHOD:PUBLISH
X-WR-CALNAME:Hennesseys Bar - Kitchen - Garden
X-ORIGINAL-URL:https://hennesseysdigbeth.co.uk
X-WR-CALDESC:Events for Hennesseys Bar - Kitchen - Garden
BEGIN:VTIMEZONE
TZID:Europe/London
BEGIN:DAYLIGHT
TZOFFSETFROM:+0000
TZOFFSETTO:+0100
TZNAME:BST
DTSTART:20200329T010000
END:DAYLIGHT
BEGIN:STANDARD
TZOFFSETFROM:+0100
TZOFFSETTO:+0000
TZNAME:GMT
DTSTART:20201025T010000
END:STANDARD
END:VTIMEZONE
BEGIN:VEVENT
DTSTART;TZID=Europe/London:20200412T190000
DTEND;TZID=Europe/London:20200413T020000
DTSTAMP:20260423T061923
CREATED:20200115T132552Z
LAST-MODIFIED:20200122T114529Z
UID:7466-1586718000-1586743200@hennesseysdigbeth.co.uk
SUMMARY:Skabucks
DESCRIPTION:Time to grabs a Skabucks! On Easter Bank Holiday 12th April Hennessey’s is proud to be hosting Birminghams premiere Ska Bands. Its going to be a night to remember \nTickets  £5 with our Early Bird special be quick only limited amount available \n    	\n        BOOK YOUR TICKETS NOW        \n        \n  \n    \n    	\n                	SKABUCKS                \n        \n    \n    \n \n  \n
URL:https://hennesseysdigbeth.co.uk/event/skabucks/
LOCATION:Hennesseys Digbeth Birmingham\, 30-31 Allison St\, Birmingham\, Birmingham\, B5 5TJ\, United Kingdom
CATEGORIES:Live Music
ATTACH;FMTTYPE=image/jpeg:https://hennesseysdigbeth.co.uk/website/wp-content/uploads/2020/01/Skabucks-2020-banner.jpg
END:VEVENT
END:VCALENDAR