BEGIN:VCALENDAR
VERSION:2.0
PRODID:-//Hennesseys Bar - Kitchen - Garden - ECPv4.9.13//NONSGML v1.0//EN
CALSCALE:GREGORIAN
METHOD:PUBLISH
X-WR-CALNAME:Hennesseys Bar - Kitchen - Garden
X-ORIGINAL-URL:https://hennesseysdigbeth.co.uk
X-WR-CALDESC:Events for Hennesseys Bar - Kitchen - Garden
BEGIN:VTIMEZONE
TZID:Asia/Krasnoyarsk
BEGIN:STANDARD
TZOFFSETFROM:+0700
TZOFFSETTO:+0700
TZNAME:+07
DTSTART:20190101T000000
END:STANDARD
END:VTIMEZONE
BEGIN:VEVENT
DTSTART;VALUE=DATE:20191009
DTEND;VALUE=DATE:20191010
DTSTAMP:20260423T200618
CREATED:20190821T143737Z
LAST-MODIFIED:20190821T155916Z
UID:5496-1570579200-1570665599@hennesseysdigbeth.co.uk
SUMMARY:Scotland vs Russia | Wales vs Fiji
DESCRIPTION:A full day of World Cup Rugby! Watch Ireland vs Scotland | England vs Tonga live at Hennesseys. The only  place to be for the Rugby World cup. \nWith our many hd screens and our spectacular big screen in our garden there’s not better place to grab a pint and find out which of the 20 nations will be crowned champion. \nClick Book a Table below \n    	    	\n            \n            	                \n                	\n                \n                            \n            \n                £50 TABLES COME WITH A £60 BAR TAB\n£100 TABLES COME WITH A £120 BAR TAB             \n            \n        \n        			\n        #leaf-icon-box-1 .ia-icon{ color: #; border-color: #}#leaf-icon-box-1 .ia-icon:hover\, #leaf-icon-box-1:hover .ia-icon{ background: #; border-color: #; color:#fff; box-shadow: 0 0 25px -3px #;}        \n    \n\n					.button-button_button_35.btn-default:hover{background-color:#e32400;color:#fff;box-shadow: 0 0 25px -3px #e32400;}\n					.button-button_button_35.btn-default{color:#e32400;}\n					.button-button_button_35.btn-default .btn-icon{color:#e32400;}\n					.button-button_button_35.btn-default:hover .btn-icon{color:#fff;}\n				    	\n        BOOK A TABLE        \n        \n    \n    	\n                	Inside Plan                \n        \n    \n    \n \n    \n    	\n                	Oustide Plan                \n        \n    \n    \n \n  \n  \n
URL:https://hennesseysdigbeth.co.uk/event/scotland-vs-russia-wales-vs-fiji/
LOCATION:Hennesseys Digbeth Birmingham\, 30-31 Allison St\, Birmingham\, Birmingham\, B5 5TJ\, United Kingdom
CATEGORIES:Rugby World Cup "019,Sport
ATTACH;FMTTYPE=image/jpeg:https://hennesseysdigbeth.co.uk/website/wp-content/uploads/2019/08/dayrugby2.jpg
END:VEVENT
END:VCALENDAR