BEGIN:VCALENDAR
VERSION:2.0
PRODID:-//Hennesseys Bar - Kitchen - Garden - ECPv4.9.13//NONSGML v1.0//EN
CALSCALE:GREGORIAN
METHOD:PUBLISH
X-WR-CALNAME:Hennesseys Bar - Kitchen - Garden
X-ORIGINAL-URL:https://hennesseysdigbeth.co.uk
X-WR-CALDESC:Events for Hennesseys Bar - Kitchen - Garden
BEGIN:VTIMEZONE
TZID:Europe/London
BEGIN:DAYLIGHT
TZOFFSETFROM:+0000
TZOFFSETTO:+0100
TZNAME:BST
DTSTART:20200329T010000
END:DAYLIGHT
BEGIN:STANDARD
TZOFFSETFROM:+0100
TZOFFSETTO:+0000
TZNAME:GMT
DTSTART:20201025T010000
END:STANDARD
END:VTIMEZONE
BEGIN:VEVENT
DTSTART;TZID=Europe/London:20200315T100000
DTEND;TZID=Europe/London:20200316T020000
DTSTAMP:20260423T092455
CREATED:20200115T124524Z
LAST-MODIFIED:20200115T132014Z
UID:7447-1584266400-1584324000@hennesseysdigbeth.co.uk
SUMMARY:St Patrick's Day Parade 2020
DESCRIPTION:Celebrate St Patricks’s Day here with us at Hennessey’s\, starting from 10am we’ve got Live Music all day so there’s no better place to party. \nFeaturing bands: Heed\, O’Fibbs\, Lampa & Cairde \n\n    	\n                	HEED                \n        \n    \n    \nHEED  are two sisters from Birmingham that form the duo Heed. They play a variety of music genres from reggae to old and new classics but mainly Irish! \n \n\n    	\n                	LAMPA                \n        \n    \n    \nLAMPA ​have established themselves as a very popular\, entertaining and vibrant young Irish Trad group from the Midlands. The bedrock and core of the band lies firmly within the Irish Tradition\, incorporating a mix of genres into their performances enabling them to deliver a dynamic and energetic folk-improvised fusion. \n \n    \n    	\n                	CAIRDE                \n        \n    \n    \nCairde (Pronounced “Kor-Ja”) is a popular Irish Band from Birmingham\, UK formed in 2004 by a group of musical enthusiasts and friends who taught music to children at the local Irish Centre. Each of them is rich with musical talent and enjoy sharing their love of traditional and contemporary Irish Music. \n \n    \n    	\n                	O’FIBBS                \n        \n    \n    \nO‘Fibbs are made up of a selection of Irish musicians bringing you the Irish music\, song and dance that will guarantee you a trip to the dance floor. \n \nAdmission charges from 12 Noon  \n
URL:https://hennesseysdigbeth.co.uk/event/saint-patricks-day-parade/
LOCATION:Hennesseys Digbeth Birmingham\, 30-31 Allison St\, Birmingham\, Birmingham\, B5 5TJ\, United Kingdom
CATEGORIES:St Paddys 2020
ATTACH;FMTTYPE=image/jpeg:https://hennesseysdigbeth.co.uk/website/wp-content/uploads/2020/01/St-Patricks-Final-2020.jpg
END:VEVENT
END:VCALENDAR