BEGIN:VCALENDAR
VERSION:2.0
PRODID:-//Hennesseys Bar - Kitchen - Garden - ECPv4.9.13//NONSGML v1.0//EN
CALSCALE:GREGORIAN
METHOD:PUBLISH
X-WR-CALNAME:Hennesseys Bar - Kitchen - Garden
X-ORIGINAL-URL:https://hennesseysdigbeth.co.uk
X-WR-CALDESC:Events for Hennesseys Bar - Kitchen - Garden
BEGIN:VTIMEZONE
TZID:Europe/London
BEGIN:DAYLIGHT
TZOFFSETFROM:+0000
TZOFFSETTO:+0100
TZNAME:BST
DTSTART:20190331T010000
END:DAYLIGHT
BEGIN:STANDARD
TZOFFSETFROM:+0100
TZOFFSETTO:+0000
TZNAME:GMT
DTSTART:20191027T010000
END:STANDARD
END:VTIMEZONE
BEGIN:VEVENT
DTSTART;TZID=Europe/London:20191025T190000
DTEND;TZID=Europe/London:20191026T030000
DTSTAMP:20260423T165912
CREATED:20190913T091636Z
LAST-MODIFIED:20190917T092955Z
UID:5881-1572030000-1572058800@hennesseysdigbeth.co.uk
SUMMARY:R & B Fright Night
DESCRIPTION:Boodamunk presents R&B Fright Night at Hennesseys. Ultimate 90s R&B from 10pm to 3am with sacres and chills throughout the night. \nFREE ENTRY\n2 spooky cocktails for £10\nFancy Dress encouraged but not essential \n \n
URL:https://hennesseysdigbeth.co.uk/event/r-b-fright-night/
LOCATION:Hennesseys Digbeth Birmingham\, 30-31 Allison St\, Birmingham\, Birmingham\, B5 5TJ\, United Kingdom
CATEGORIES:Halloween,R & B
ATTACH;FMTTYPE=image/jpeg:https://hennesseysdigbeth.co.uk/website/wp-content/uploads/2019/09/RNB-FRIGHT-NIGHT-web-banner.jpg
END:VEVENT
END:VCALENDAR