BEGIN:VCALENDAR
VERSION:2.0
PRODID:-//Hennesseys Bar - Kitchen - Garden - ECPv4.9.13//NONSGML v1.0//EN
CALSCALE:GREGORIAN
METHOD:PUBLISH
X-WR-CALNAME:Hennesseys Bar - Kitchen - Garden
X-ORIGINAL-URL:https://hennesseysdigbeth.co.uk
X-WR-CALDESC:Events for Hennesseys Bar - Kitchen - Garden
BEGIN:VTIMEZONE
TZID:Asia/Krasnoyarsk
BEGIN:STANDARD
TZOFFSETFROM:+0700
TZOFFSETTO:+0700
TZNAME:+07
DTSTART:20190101T000000
END:STANDARD
END:VTIMEZONE
BEGIN:VEVENT
DTSTART;TZID=Asia/Krasnoyarsk:20191019T081500
DTEND;TZID=Asia/Krasnoyarsk:20191019T170000
DTSTAMP:20260423T151657
CREATED:20191001T153508Z
LAST-MODIFIED:20191016T103350Z
UID:6208-1571472900-1571504400@hennesseysdigbeth.co.uk
SUMMARY:England vs Australia | New Zealand vs Ireland Quarter Finals
DESCRIPTION:Come and watch England vs Australia | New Zealand vs Ireland in the Quarter Finals live at Hennesseys. The only  place to be for the Rugby World cup. \nWith our many hd screens and our spectacular big screen in our garden there’s not better place to watch and find out which of the 20 nations will be crowned champion. As the epic contest nears its dramatic conclusion. \nClick Book a Table below \n    	    	\n            \n            	                \n                	\n                \n                            \n            \n                £50 TABLES COME WITH A £60 BAR TAB\n£100 TABLES COME WITH A £120 BAR TAB             \n            \n        \n        			\n        #leaf-icon-box-1 .ia-icon{ color: #; border-color: #}#leaf-icon-box-1 .ia-icon:hover\, #leaf-icon-box-1:hover .ia-icon{ background: #; border-color: #; color:#fff; box-shadow: 0 0 25px -3px #;}        \n    \n  \n    	\n        BOOK A TABLE        \n        \n  \n    \n    	\n                	Inside Plan                \n        \n    \n    \n \n    \n    	\n                	Oustide Plan                \n        \n    \n    \n \n  \n  \n
URL:https://hennesseysdigbeth.co.uk/event/quarter-final-1/
LOCATION:Hennesseys Digbeth Birmingham\, 30-31 Allison St\, Birmingham\, Birmingham\, B5 5TJ\, United Kingdom
CATEGORIES:Rugby World Cup "019,Sport
ATTACH;FMTTYPE=image/jpeg:https://hennesseysdigbeth.co.uk/website/wp-content/uploads/2019/10/quarters.jpg
END:VEVENT
END:VCALENDAR