BEGIN:VCALENDAR
VERSION:2.0
PRODID:-//Hennesseys Bar - Kitchen - Garden - ECPv4.9.13//NONSGML v1.0//EN
CALSCALE:GREGORIAN
METHOD:PUBLISH
X-WR-CALNAME:Hennesseys Bar - Kitchen - Garden
X-ORIGINAL-URL:https://hennesseysdigbeth.co.uk
X-WR-CALDESC:Events for Hennesseys Bar - Kitchen - Garden
BEGIN:VTIMEZONE
TZID:Europe/London
BEGIN:DAYLIGHT
TZOFFSETFROM:+0000
TZOFFSETTO:+0100
TZNAME:BST
DTSTART:20240331T010000
END:DAYLIGHT
BEGIN:STANDARD
TZOFFSETFROM:+0100
TZOFFSETTO:+0000
TZNAME:GMT
DTSTART:20241027T010000
END:STANDARD
END:VTIMEZONE
BEGIN:VEVENT
DTSTART;TZID=Europe/London:20241005T190000
DTEND;TZID=Europe/London:20241005T233000
DTSTAMP:20260422T092614
CREATED:20240920T151748Z
LAST-MODIFIED:20240920T151904Z
UID:13467-1728154800-1728171000@hennesseysdigbeth.co.uk
SUMMARY:One for the Road
DESCRIPTION:Come and  enjoy a great night of live Music with one for the road  live at Hennesseys on Saturday 5th October from 7pm.  Delivering some outstanding classics of irish\, rock\, soul and country. Not to be missed! \nA great night with a great atmosphere is guaranteed. \n  \n  \n
URL:https://hennesseysdigbeth.co.uk/event/one-for-the-road/
CATEGORIES:2024,Birmingham,Live Music
ATTACH;FMTTYPE=image/jpeg:https://hennesseysdigbeth.co.uk/website/wp-content/uploads/2024/09/Slide2-1.jpg
END:VEVENT
END:VCALENDAR