BEGIN:VCALENDAR
VERSION:2.0
PRODID:-//Hennesseys Bar - Kitchen - Garden - ECPv4.9.13//NONSGML v1.0//EN
CALSCALE:GREGORIAN
METHOD:PUBLISH
X-WR-CALNAME:Hennesseys Bar - Kitchen - Garden
X-ORIGINAL-URL:https://hennesseysdigbeth.co.uk
X-WR-CALDESC:Events for Hennesseys Bar - Kitchen - Garden
BEGIN:VTIMEZONE
TZID:Europe/London
BEGIN:DAYLIGHT
TZOFFSETFROM:+0000
TZOFFSETTO:+0100
TZNAME:BST
DTSTART:20250330T010000
END:DAYLIGHT
BEGIN:STANDARD
TZOFFSETFROM:+0100
TZOFFSETTO:+0000
TZNAME:GMT
DTSTART:20251026T010000
END:STANDARD
END:VTIMEZONE
BEGIN:VEVENT
DTSTART;TZID=Europe/London:20250503T190000
DTEND;TZID=Europe/London:20250503T233000
DTSTAMP:20260421T105928
CREATED:20240812T123449Z
LAST-MODIFIED:20250416T072243Z
UID:13420-1746298800-1746315000@hennesseysdigbeth.co.uk
SUMMARY:On the Sesh
DESCRIPTION:Come and  enjoy a great night of live Music with Bang on the Sesh  live at Hennesseys on Saturday 3rd May  from 7pm.  on the Sesh specialise in up beat dancxe floor fillers and some of the best in party covers around. Not To be missed \nA great night with a great atmosphere is guaranteed. \n  \n  \n
URL:https://hennesseysdigbeth.co.uk/event/on-the-sesh-3/
CATEGORIES:2025,Live Music
ATTACH;FMTTYPE=image/jpeg:https://hennesseysdigbeth.co.uk/website/wp-content/uploads/2024/08/ON-THE-SESH-3RD-MAY.jpg
END:VEVENT
END:VCALENDAR