BEGIN:VCALENDAR
VERSION:2.0
PRODID:-//Hennesseys Bar - Kitchen - Garden - ECPv4.9.13//NONSGML v1.0//EN
CALSCALE:GREGORIAN
METHOD:PUBLISH
X-WR-CALNAME:Hennesseys Bar - Kitchen - Garden
X-ORIGINAL-URL:https://hennesseysdigbeth.co.uk
X-WR-CALDESC:Events for Hennesseys Bar - Kitchen - Garden
BEGIN:VTIMEZONE
TZID:Europe/London
BEGIN:DAYLIGHT
TZOFFSETFROM:+0000
TZOFFSETTO:+0100
TZNAME:BST
DTSTART:20240331T010000
END:DAYLIGHT
BEGIN:STANDARD
TZOFFSETFROM:+0100
TZOFFSETTO:+0000
TZNAME:GMT
DTSTART:20241027T010000
END:STANDARD
END:VTIMEZONE
BEGIN:VEVENT
DTSTART;TZID=Europe/London:20240518T190000
DTEND;TZID=Europe/London:20240518T233000
DTSTAMP:20260421T083409
CREATED:20240429T100332Z
LAST-MODIFIED:20240429T100332Z
UID:13122-1716058800-1716075000@hennesseysdigbeth.co.uk
SUMMARY:Missing the Ferry
DESCRIPTION:Come and  enjoy a cracking night of live Music with Missing the ferry live at Hennesseys on Saturday 18th May from 7pm. This band will be covering Irish and Irish influenced Music to get you on your toes and dancing all night. \nA great night with a great atmosphere is guaranteed. \n  \n  \n
URL:https://hennesseysdigbeth.co.uk/event/missing-the-ferry/
CATEGORIES:2024,Birmingham,Live Music,Saturday Night
ATTACH;FMTTYPE=image/jpeg:https://hennesseysdigbeth.co.uk/website/wp-content/uploads/2024/04/MISSING-THE-FERRY.jpg
END:VEVENT
END:VCALENDAR