BEGIN:VCALENDAR
VERSION:2.0
PRODID:-//Hennesseys Bar - Kitchen - Garden - ECPv4.9.13//NONSGML v1.0//EN
CALSCALE:GREGORIAN
METHOD:PUBLISH
X-WR-CALNAME:Hennesseys Bar - Kitchen - Garden
X-ORIGINAL-URL:https://hennesseysdigbeth.co.uk
X-WR-CALDESC:Events for Hennesseys Bar - Kitchen - Garden
BEGIN:VTIMEZONE
TZID:Europe/London
BEGIN:DAYLIGHT
TZOFFSETFROM:+0000
TZOFFSETTO:+0100
TZNAME:BST
DTSTART:20250330T010000
END:DAYLIGHT
BEGIN:STANDARD
TZOFFSETFROM:+0100
TZOFFSETTO:+0000
TZNAME:GMT
DTSTART:20251026T010000
END:STANDARD
END:VTIMEZONE
BEGIN:VEVENT
DTSTART;TZID=Europe/London:20250517T190000
DTEND;TZID=Europe/London:20250517T233000
DTSTAMP:20260421T123215
CREATED:20250417T090353Z
LAST-MODIFIED:20250417T090353Z
UID:14043-1747508400-1747524600@hennesseysdigbeth.co.uk
SUMMARY:Lynn and the Encore
DESCRIPTION:Come and  enjoy a great night of live Music with Lynn and the Encore at Hennesseys on Saturday 17th May 2025  from 7:30pm.  A quality pure mash Rock and Pop Band  playing a variety of outstanding covers from the likes of the Beetles\, Rolling Stones\, Kings of Leon\, |Eric Clapton\, Pink Floyd plus many more Not to be missed!! \nA great night with a great atmosphere is guaranteed. \n  \n  \n
URL:https://hennesseysdigbeth.co.uk/event/lynn-and-the-encore/
CATEGORIES:2025,Birmingham,Live Music
ATTACH;FMTTYPE=image/jpeg:https://hennesseysdigbeth.co.uk/website/wp-content/uploads/2025/04/lynne-the-encore.jpg
END:VEVENT
END:VCALENDAR