BEGIN:VCALENDAR
VERSION:2.0
PRODID:-//Hennesseys Bar - Kitchen - Garden - ECPv4.9.13//NONSGML v1.0//EN
CALSCALE:GREGORIAN
METHOD:PUBLISH
X-WR-CALNAME:Hennesseys Bar - Kitchen - Garden
X-ORIGINAL-URL:https://hennesseysdigbeth.co.uk
X-WR-CALDESC:Events for Hennesseys Bar - Kitchen - Garden
BEGIN:VTIMEZONE
TZID:Europe/London
BEGIN:DAYLIGHT
TZOFFSETFROM:+0000
TZOFFSETTO:+0100
TZNAME:BST
DTSTART:20240331T010000
END:DAYLIGHT
BEGIN:STANDARD
TZOFFSETFROM:+0100
TZOFFSETTO:+0000
TZNAME:GMT
DTSTART:20241027T010000
END:STANDARD
END:VTIMEZONE
BEGIN:VEVENT
DTSTART;TZID=Europe/London:20241019T190000
DTEND;TZID=Europe/London:20241019T233000
DTSTAMP:20260422T092230
CREATED:20240920T154212Z
LAST-MODIFIED:20240920T154212Z
UID:13483-1729364400-1729380600@hennesseysdigbeth.co.uk
SUMMARY:Luna Waves
DESCRIPTION:Come and  enjoy a great night of live Music with Luna Waves  live at Hennesseys on Saturday 19th October from 7pm.  performing some indie and rock bangers from across the decades. \nA great night with a great atmosphere is guaranteed. \n  \n  \n
URL:https://hennesseysdigbeth.co.uk/event/luna-waves/
CATEGORIES:2024,Birmingham,Live Music
ATTACH;FMTTYPE=image/jpeg:https://hennesseysdigbeth.co.uk/website/wp-content/uploads/2024/09/Slide6.jpg
END:VEVENT
END:VCALENDAR