BEGIN:VCALENDAR
VERSION:2.0
PRODID:-//Hennesseys Bar - Kitchen - Garden - ECPv4.9.13//NONSGML v1.0//EN
CALSCALE:GREGORIAN
METHOD:PUBLISH
X-WR-CALNAME:Hennesseys Bar - Kitchen - Garden
X-ORIGINAL-URL:https://hennesseysdigbeth.co.uk
X-WR-CALDESC:Events for Hennesseys Bar - Kitchen - Garden
BEGIN:VTIMEZONE
TZID:Europe/London
BEGIN:DAYLIGHT
TZOFFSETFROM:+0000
TZOFFSETTO:+0100
TZNAME:BST
DTSTART:20250330T010000
END:DAYLIGHT
BEGIN:STANDARD
TZOFFSETFROM:+0100
TZOFFSETTO:+0000
TZNAME:GMT
DTSTART:20251026T010000
END:STANDARD
END:VTIMEZONE
BEGIN:VEVENT
DTSTART;TZID=Europe/London:20250222T190000
DTEND;TZID=Europe/London:20250222T233000
DTSTAMP:20260421T084840
CREATED:20250115T161459Z
LAST-MODIFIED:20250115T161459Z
UID:13711-1740250800-1740267000@hennesseysdigbeth.co.uk
SUMMARY:Loopvox
DESCRIPTION:Come and  enjoy a great night of live Music with Loopvox  live at Hennesseys on Saturday 22nd February 2025  from 7:30pm.  Delivering some absolute classics from the genres of Rock\, Dance\, Pop\, Motown\, Funk many more \nA great night with a great atmosphere is guaranteed. \n  \n  \n
URL:https://hennesseysdigbeth.co.uk/event/loopvox/
CATEGORIES:2025,Birmingham,Live Music
ATTACH;FMTTYPE=image/jpeg:https://hennesseysdigbeth.co.uk/website/wp-content/uploads/2025/01/LOOPVOX-1.jpg
END:VEVENT
END:VCALENDAR