BEGIN:VCALENDAR
VERSION:2.0
PRODID:-//Hennesseys Bar - Kitchen - Garden - ECPv4.9.13//NONSGML v1.0//EN
CALSCALE:GREGORIAN
METHOD:PUBLISH
X-WR-CALNAME:Hennesseys Bar - Kitchen - Garden
X-ORIGINAL-URL:https://hennesseysdigbeth.co.uk
X-WR-CALDESC:Events for Hennesseys Bar - Kitchen - Garden
BEGIN:VTIMEZONE
TZID:Europe/London
BEGIN:DAYLIGHT
TZOFFSETFROM:+0000
TZOFFSETTO:+0100
TZNAME:BST
DTSTART:20240331T010000
END:DAYLIGHT
BEGIN:STANDARD
TZOFFSETFROM:+0100
TZOFFSETTO:+0000
TZNAME:GMT
DTSTART:20241027T010000
END:STANDARD
END:VTIMEZONE
BEGIN:VEVENT
DTSTART;TZID=Europe/London:20240510T190000
DTEND;TZID=Europe/London:20240510T233000
DTSTAMP:20260423T085304
CREATED:20240508T190424Z
LAST-MODIFIED:20240508T190424Z
UID:13136-1715367600-1715383800@hennesseysdigbeth.co.uk
SUMMARY:Kyle Leach
DESCRIPTION:Come and  enjoy a great night of live Music with Kyle leach live at Hennesseys on Saturday 25thth May from 7pm. He will be covering acoustic covers from across the decades and much more. \nA great night with a great atmosphere is guaranteed. \n  \n  \n
URL:https://hennesseysdigbeth.co.uk/event/kyle-leach/
CATEGORIES:2024,Birmingham,Friday Night,Live Music
ATTACH;FMTTYPE=image/jpeg:https://hennesseysdigbeth.co.uk/website/wp-content/uploads/2024/05/dd.jpg
END:VEVENT
END:VCALENDAR