BEGIN:VCALENDAR
VERSION:2.0
PRODID:-//Hennesseys Bar - Kitchen - Garden - ECPv4.9.13//NONSGML v1.0//EN
CALSCALE:GREGORIAN
METHOD:PUBLISH
X-WR-CALNAME:Hennesseys Bar - Kitchen - Garden
X-ORIGINAL-URL:https://hennesseysdigbeth.co.uk
X-WR-CALDESC:Events for Hennesseys Bar - Kitchen - Garden
BEGIN:VTIMEZONE
TZID:Europe/London
BEGIN:DAYLIGHT
TZOFFSETFROM:+0000
TZOFFSETTO:+0100
TZNAME:BST
DTSTART:20210328T010000
END:DAYLIGHT
BEGIN:STANDARD
TZOFFSETFROM:+0100
TZOFFSETTO:+0000
TZNAME:GMT
DTSTART:20211031T010000
END:STANDARD
END:VTIMEZONE
BEGIN:VEVENT
DTSTART;TZID=Europe/London:20210925T183000
DTEND;TZID=Europe/London:20210925T233000
DTSTAMP:20260423T183359
CREATED:20210816T162041Z
LAST-MODIFIED:20210816T162159Z
UID:10626-1632594600-1632612600@hennesseysdigbeth.co.uk
SUMMARY:JOSHUA vs USYK
DESCRIPTION:ome and enjoy our Joshua VS USYK in true style at Hennesseys the only place to be to watch Live  Boxing \nFight & build up with commentary on big screen & multiple TVs  throughout the main bar\, beer garden and basement Bar \n
URL:https://hennesseysdigbeth.co.uk/event/joshua-vs-usyk-2/
CATEGORIES:Live Boxing
ATTACH;FMTTYPE=image/jpeg:https://hennesseysdigbeth.co.uk/website/wp-content/uploads/2021/08/JOSHUS.jpg
END:VEVENT
END:VCALENDAR