BEGIN:VCALENDAR
VERSION:2.0
PRODID:-//Hennesseys Bar - Kitchen - Garden - ECPv4.9.13//NONSGML v1.0//EN
CALSCALE:GREGORIAN
METHOD:PUBLISH
X-WR-CALNAME:Hennesseys Bar - Kitchen - Garden
X-ORIGINAL-URL:https://hennesseysdigbeth.co.uk
X-WR-CALDESC:Events for Hennesseys Bar - Kitchen - Garden
BEGIN:VTIMEZONE
TZID:Europe/London
BEGIN:DAYLIGHT
TZOFFSETFROM:+0000
TZOFFSETTO:+0100
TZNAME:BST
DTSTART:20230326T010000
END:DAYLIGHT
BEGIN:STANDARD
TZOFFSETFROM:+0100
TZOFFSETTO:+0000
TZNAME:GMT
DTSTART:20231029T010000
END:STANDARD
END:VTIMEZONE
BEGIN:VEVENT
DTSTART;TZID=Europe/London:20230930T190000
DTEND;TZID=Europe/London:20230930T235900
DTSTAMP:20260423T015648
CREATED:20230829T104145Z
LAST-MODIFIED:20230829T104145Z
UID:12668-1696100400-1696118340@hennesseysdigbeth.co.uk
SUMMARY:Johnny J and the Merry Makers
DESCRIPTION:Come and  enjoy a great night of live Music with Johnny J and the Merry Makers live at Hennesseys on Saturday 30th September from 7:30pm. They will be covering sing along anthems from the likes of Oasis\, the Jam\, Queen\, Fleetwood Mac and many more\, \nDJ on till late straight after the Live band.  A great night with a great atmosphere is guaranteed. \n  \n  \n
URL:https://hennesseysdigbeth.co.uk/event/johnny-j-and-the-merry-makers/
CATEGORIES:Live Music,Saturday Night
ATTACH;FMTTYPE=image/jpeg:https://hennesseysdigbeth.co.uk/website/wp-content/uploads/2023/08/30TH-SEPT.jpg
END:VEVENT
END:VCALENDAR