BEGIN:VCALENDAR
VERSION:2.0
PRODID:-//Hennesseys Bar - Kitchen - Garden - ECPv4.9.13//NONSGML v1.0//EN
CALSCALE:GREGORIAN
METHOD:PUBLISH
X-WR-CALNAME:Hennesseys Bar - Kitchen - Garden
X-ORIGINAL-URL:https://hennesseysdigbeth.co.uk
X-WR-CALDESC:Events for Hennesseys Bar - Kitchen - Garden
BEGIN:VTIMEZONE
TZID:Europe/London
BEGIN:DAYLIGHT
TZOFFSETFROM:+0000
TZOFFSETTO:+0100
TZNAME:BST
DTSTART:20230326T010000
END:DAYLIGHT
BEGIN:STANDARD
TZOFFSETFROM:+0100
TZOFFSETTO:+0000
TZNAME:GMT
DTSTART:20231029T010000
END:STANDARD
END:VTIMEZONE
BEGIN:VEVENT
DTSTART;TZID=Europe/London:20231223T190000
DTEND;TZID=Europe/London:20231223T235900
DTSTAMP:20260423T003502
CREATED:20231130T100124Z
LAST-MODIFIED:20231130T100156Z
UID:12805-1703358000-1703375940@hennesseysdigbeth.co.uk
SUMMARY:Johnny J and the Merry Makers
DESCRIPTION:Get in to the Christmas spirit and come and  enjoy a great night of live Music with Johnny J and the Merry Makers live at Hennesseys on Saturday 23rd December from 7pm. This band will be covering sing along classics from the likes of the Jam\, Oasis\, Fleetwood Mac\, Queen and many more\, \nA great night with a great atmosphere is guaranteed. \n  \n  \n
URL:https://hennesseysdigbeth.co.uk/event/johnny-j-and-the-merry-makers-2/
CATEGORIES:Birmingham,Live Music,Saturday Night
ATTACH;FMTTYPE=image/jpeg:https://hennesseysdigbeth.co.uk/website/wp-content/uploads/2023/11/johhny-j-23.12.23.jpg
END:VEVENT
END:VCALENDAR