BEGIN:VCALENDAR
VERSION:2.0
PRODID:-//Hennesseys Bar - Kitchen - Garden - ECPv4.9.13//NONSGML v1.0//EN
CALSCALE:GREGORIAN
METHOD:PUBLISH
X-WR-CALNAME:Hennesseys Bar - Kitchen - Garden
X-ORIGINAL-URL:https://hennesseysdigbeth.co.uk
X-WR-CALDESC:Events for Hennesseys Bar - Kitchen - Garden
BEGIN:VTIMEZONE
TZID:Europe/London
BEGIN:DAYLIGHT
TZOFFSETFROM:+0000
TZOFFSETTO:+0100
TZNAME:BST
DTSTART:20240331T010000
END:DAYLIGHT
BEGIN:STANDARD
TZOFFSETFROM:+0100
TZOFFSETTO:+0000
TZNAME:GMT
DTSTART:20241027T010000
END:STANDARD
END:VTIMEZONE
BEGIN:VEVENT
DTSTART;TZID=Europe/London:20241109T193000
DTEND;TZID=Europe/London:20241109T233000
DTSTAMP:20260422T074832
CREATED:20240927T161736Z
LAST-MODIFIED:20240927T161736Z
UID:13503-1731180600-1731195000@hennesseysdigbeth.co.uk
SUMMARY:Jewels
DESCRIPTION:Come and  enjoy a great night of live Music with Jewels live at Hennesseys on Saturday 9th November from 7:30pm.  Performing  a compromising edge of old-style retro rock with modern rhythmic genius! \nA great night with a great atmosphere is guaranteed. \n  \n  \n
URL:https://hennesseysdigbeth.co.uk/event/jewels-2/
CATEGORIES:2024,Birmingham,Live Music
ATTACH;FMTTYPE=image/jpeg:https://hennesseysdigbeth.co.uk/website/wp-content/uploads/2024/09/Slide3-2.jpg
END:VEVENT
END:VCALENDAR