BEGIN:VCALENDAR
VERSION:2.0
PRODID:-//Hennesseys Bar - Kitchen - Garden - ECPv4.9.13//NONSGML v1.0//EN
CALSCALE:GREGORIAN
METHOD:PUBLISH
X-WR-CALNAME:Hennesseys Bar - Kitchen - Garden
X-ORIGINAL-URL:https://hennesseysdigbeth.co.uk
X-WR-CALDESC:Events for Hennesseys Bar - Kitchen - Garden
BEGIN:VTIMEZONE
TZID:Europe/London
BEGIN:DAYLIGHT
TZOFFSETFROM:+0000
TZOFFSETTO:+0100
TZNAME:BST
DTSTART:20190331T010000
END:DAYLIGHT
BEGIN:STANDARD
TZOFFSETFROM:+0100
TZOFFSETTO:+0000
TZNAME:GMT
DTSTART:20191027T010000
END:STANDARD
BEGIN:DAYLIGHT
TZOFFSETFROM:+0000
TZOFFSETTO:+0100
TZNAME:BST
DTSTART:20200329T010000
END:DAYLIGHT
BEGIN:STANDARD
TZOFFSETFROM:+0100
TZOFFSETTO:+0000
TZNAME:GMT
DTSTART:20201025T010000
END:STANDARD
END:VTIMEZONE
BEGIN:VEVENT
DTSTART;TZID=Europe/London:20191231T190000
DTEND;TZID=Europe/London:20200101T040000
DTSTAMP:20260423T165930
CREATED:20190710T142222Z
LAST-MODIFIED:20190910T085419Z
UID:5342-1577818800-1577851200@hennesseysdigbeth.co.uk
SUMMARY:Irish New Year 2019
DESCRIPTION:\n\n\n\n\nIrish New Year’s Eve at Hennesseys. A New Years Eve that you never forget. Live Music Headliners: The Father Teds  featuring  Heed Doors Open from 7PM Tickets £10   \n\n\n\n\n\n\n
URL:https://hennesseysdigbeth.co.uk/event/irish-new-year-2019/
LOCATION:Hennesseys Digbeth Birmingham\, 30-31 Allison St\, Birmingham\, Birmingham\, B5 5TJ\, United Kingdom
CATEGORIES:New Years Eve
ATTACH;FMTTYPE=image/jpeg:https://hennesseysdigbeth.co.uk/website/wp-content/uploads/2019/07/New-Year-Landscape.jpg
END:VEVENT
END:VCALENDAR