BEGIN:VCALENDAR
VERSION:2.0
PRODID:-//Hennesseys Bar - Kitchen - Garden - ECPv4.9.13//NONSGML v1.0//EN
CALSCALE:GREGORIAN
METHOD:PUBLISH
X-WR-CALNAME:Hennesseys Bar - Kitchen - Garden
X-ORIGINAL-URL:https://hennesseysdigbeth.co.uk
X-WR-CALDESC:Events for Hennesseys Bar - Kitchen - Garden
BEGIN:VTIMEZONE
TZID:Asia/Krasnoyarsk
BEGIN:STANDARD
TZOFFSETFROM:+0700
TZOFFSETTO:+0700
TZNAME:+07
DTSTART:20200101T000000
END:STANDARD
END:VTIMEZONE
BEGIN:VEVENT
DTSTART;TZID=Asia/Krasnoyarsk:20200208T120000
DTEND;TZID=Asia/Krasnoyarsk:20200208T200000
DTSTAMP:20260423T152027
CREATED:20200108T152523Z
LAST-MODIFIED:20200108T153053Z
UID:7221-1581163200-1581192000@hennesseysdigbeth.co.uk
SUMMARY:Ireland vs Wales / Scotland vs England
DESCRIPTION:Come and watch Ireland vs Wales / Scotland vs England in the Six Nations live at Hennesseys. The only  place to be to watch the Six Nations tournament \nWith our many hd screens and our spectacular big screen in our garden there’s no better place to watch this thrilling racing event. As the epic contest nears its dramatic conclusion. \n    	    	\n            \n            	                \n                	\n                \n                            \n            \n                £50 TABLES COME WITH A £60 BAR TAB\n£100 TABLES COME WITH A £120 BAR TAB             \n            \n        \n        			\n        #leaf-icon-box-1 .ia-icon{ color: #; border-color: #}#leaf-icon-box-1 .ia-icon:hover\, #leaf-icon-box-1:hover .ia-icon{ background: #; border-color: #; color:#fff; box-shadow: 0 0 25px -3px #;}        \n    \n  \n    	\n        BOOK YOUR TABLE NOW        \n        \n  \n    	\n			\n                                \n        \n	\n  \n    \n    	\n                	Inside Plan                \n        \n    \n    \n \n    \n    	\n                	Oustide Plan                \n        \n    \n    \n \n  \n  \n
URL:https://hennesseysdigbeth.co.uk/event/ireland-vs-wales-scotland-vs-england/
LOCATION:Hennesseys Digbeth Birmingham\, 30-31 Allison St\, Birmingham\, Birmingham\, B5 5TJ\, United Kingdom
CATEGORIES:Six Nations Rugby 2020
ATTACH;FMTTYPE=image/jpeg:https://hennesseysdigbeth.co.uk/website/wp-content/uploads/2020/01/bannernew1.jpg
END:VEVENT
END:VCALENDAR