BEGIN:VCALENDAR
VERSION:2.0
PRODID:-//Hennesseys Bar - Kitchen - Garden - ECPv4.9.13//NONSGML v1.0//EN
CALSCALE:GREGORIAN
METHOD:PUBLISH
X-WR-CALNAME:Hennesseys Bar - Kitchen - Garden
X-ORIGINAL-URL:https://hennesseysdigbeth.co.uk
X-WR-CALDESC:Events for Hennesseys Bar - Kitchen - Garden
BEGIN:VTIMEZONE
TZID:Europe/London
BEGIN:DAYLIGHT
TZOFFSETFROM:+0000
TZOFFSETTO:+0100
TZNAME:BST
DTSTART:20200329T010000
END:DAYLIGHT
BEGIN:STANDARD
TZOFFSETFROM:+0100
TZOFFSETTO:+0000
TZNAME:GMT
DTSTART:20201025T010000
END:STANDARD
END:VTIMEZONE
BEGIN:VEVENT
DTSTART;TZID=Europe/London:20201024T120000
DTEND;TZID=Europe/London:20201024T190000
DTSTAMP:20260423T105604
CREATED:20201016T114232Z
LAST-MODIFIED:20201016T123508Z
UID:8274-1603540800-1603566000@hennesseysdigbeth.co.uk
SUMMARY:IRELAND VS ITALY 6 NATIONS
DESCRIPTION:Come and watch Ireland vs Italy in the Six Nations live at Hennesseys. The only  place to be to watch the Six Nations tournament \nWith our many hd screens and our spectacular big screen in our garden there’s no better place to watch this thrilling racing event. \n    	\n        Pre Book a Table        \n        \n  \n
URL:https://hennesseysdigbeth.co.uk/event/ireland-vs-italy-6-nations/
CATEGORIES:Six Nations Rugby 2020
ATTACH;FMTTYPE=image/jpeg:https://hennesseysdigbeth.co.uk/website/wp-content/uploads/2020/10/6n.jpg
END:VEVENT
END:VCALENDAR