BEGIN:VCALENDAR
VERSION:2.0
PRODID:-//Hennesseys Bar - Kitchen - Garden - ECPv4.9.13//NONSGML v1.0//EN
CALSCALE:GREGORIAN
METHOD:PUBLISH
X-WR-CALNAME:Hennesseys Bar - Kitchen - Garden
X-ORIGINAL-URL:https://hennesseysdigbeth.co.uk
X-WR-CALDESC:Events for Hennesseys Bar - Kitchen - Garden
BEGIN:VTIMEZONE
TZID:Europe/London
BEGIN:DAYLIGHT
TZOFFSETFROM:+0000
TZOFFSETTO:+0100
TZNAME:BST
DTSTART:20230326T010000
END:DAYLIGHT
BEGIN:STANDARD
TZOFFSETFROM:+0100
TZOFFSETTO:+0000
TZNAME:GMT
DTSTART:20231029T010000
END:STANDARD
END:VTIMEZONE
BEGIN:VEVENT
DTSTART;TZID=Europe/London:20230827T190000
DTEND;TZID=Europe/London:20230827T235900
DTSTAMP:20260423T004733
CREATED:20230713T100855Z
LAST-MODIFIED:20230713T100937Z
UID:12603-1693162800-1693180740@hennesseysdigbeth.co.uk
SUMMARY:Iconic 80's and 90's August Bank Holiday
DESCRIPTION:Come and  enjoy a a brilliant  night of live Music with a 4 piece band live at  Hennesseys on Bank Holiday Sunday 27th August from 7pm. They will be covering all the stand out and classic hits of the iconic 80’s and the Iconic 90’s \nA great night with a great atmosphere is guaranteed. \nFREE BEFORE 8PM\, £5 THERE AFTER \n  \n  \n
URL:https://hennesseysdigbeth.co.uk/event/iconic-80s-and-90s-august-bank-holiday/
CATEGORIES:Live Music,Saturday Night
ATTACH;FMTTYPE=image/jpeg:https://hennesseysdigbeth.co.uk/website/wp-content/uploads/2023/07/ICONIC-80S-AND-90S.jpg
END:VEVENT
END:VCALENDAR