BEGIN:VCALENDAR
VERSION:2.0
PRODID:-//Hennesseys Bar - Kitchen - Garden - ECPv4.9.13//NONSGML v1.0//EN
CALSCALE:GREGORIAN
METHOD:PUBLISH
X-WR-CALNAME:Hennesseys Bar - Kitchen - Garden
X-ORIGINAL-URL:https://hennesseysdigbeth.co.uk
X-WR-CALDESC:Events for Hennesseys Bar - Kitchen - Garden
BEGIN:VTIMEZONE
TZID:Europe/London
BEGIN:DAYLIGHT
TZOFFSETFROM:+0000
TZOFFSETTO:+0100
TZNAME:BST
DTSTART:20220327T010000
END:DAYLIGHT
BEGIN:STANDARD
TZOFFSETFROM:+0100
TZOFFSETTO:+0000
TZNAME:GMT
DTSTART:20221030T010000
END:STANDARD
END:VTIMEZONE
BEGIN:VEVENT
DTSTART;TZID=Europe/London:20220730T150000
DTEND;TZID=Europe/London:20220730T190000
DTSTAMP:20260423T075304
CREATED:20220627T124609Z
LAST-MODIFIED:20220627T124904Z
UID:11568-1659193200-1659207600@hennesseysdigbeth.co.uk
SUMMARY:Faker Maker
DESCRIPTION:Tthe Feinitive tribute to Oasis covering all of Oaisis’s greatest hits. \nFree Live show in the Garden!! \n\nhttps://hennesseysdigbeth.co.uk/website/wp-content/uploads/2022/06/fakermaker.mp4\n
URL:https://hennesseysdigbeth.co.uk/event/faker-maker/
CATEGORIES:Birmingham,Live Music
ATTACH;FMTTYPE=image/jpeg:https://hennesseysdigbeth.co.uk/website/wp-content/uploads/2022/06/fakermaker.jpg
END:VEVENT
END:VCALENDAR