BEGIN:VCALENDAR
VERSION:2.0
PRODID:-//Hennesseys Bar - Kitchen - Garden - ECPv4.9.13//NONSGML v1.0//EN
CALSCALE:GREGORIAN
METHOD:PUBLISH
X-WR-CALNAME:Hennesseys Bar - Kitchen - Garden
X-ORIGINAL-URL:https://hennesseysdigbeth.co.uk
X-WR-CALDESC:Events for Hennesseys Bar - Kitchen - Garden
BEGIN:VTIMEZONE
TZID:Europe/London
BEGIN:DAYLIGHT
TZOFFSETFROM:+0000
TZOFFSETTO:+0100
TZNAME:BST
DTSTART:20210328T010000
END:DAYLIGHT
BEGIN:STANDARD
TZOFFSETFROM:+0100
TZOFFSETTO:+0000
TZNAME:GMT
DTSTART:20211031T010000
END:STANDARD
END:VTIMEZONE
BEGIN:VEVENT
DTSTART;TZID=Europe/London:20210707T163000
DTEND;TZID=Europe/London:20210707T233000
DTSTAMP:20260424T004012
CREATED:20210705T094634Z
LAST-MODIFIED:20210705T094634Z
UID:10454-1625675400-1625700600@hennesseysdigbeth.co.uk
SUMMARY:EUROS SEMI FINAL ENGLAND VS DENMARK SOLD OUT
DESCRIPTION:The Euro Semi Final between England and Denmark on Wednesday July the 7th is fully sold out. \n
URL:https://hennesseysdigbeth.co.uk/event/euros-semi-final-england-vs-denmark-sold-out/
CATEGORIES:Euro 2021
ATTACH;FMTTYPE=image/jpeg:https://hennesseysdigbeth.co.uk/website/wp-content/uploads/2021/07/sold-out-euro-final.jpg
END:VEVENT
END:VCALENDAR