BEGIN:VCALENDAR
VERSION:2.0
PRODID:-//Hennesseys Bar - Kitchen - Garden - ECPv4.9.13//NONSGML v1.0//EN
CALSCALE:GREGORIAN
METHOD:PUBLISH
X-WR-CALNAME:Hennesseys Bar - Kitchen - Garden
X-ORIGINAL-URL:https://hennesseysdigbeth.co.uk
X-WR-CALDESC:Events for Hennesseys Bar - Kitchen - Garden
BEGIN:VTIMEZONE
TZID:Europe/London
BEGIN:DAYLIGHT
TZOFFSETFROM:+0000
TZOFFSETTO:+0100
TZNAME:BST
DTSTART:20230326T010000
END:DAYLIGHT
BEGIN:STANDARD
TZOFFSETFROM:+0100
TZOFFSETTO:+0000
TZNAME:GMT
DTSTART:20231029T010000
END:STANDARD
END:VTIMEZONE
BEGIN:VEVENT
DTSTART;TZID=Europe/London:20230121T183000
DTEND;TZID=Europe/London:20230121T233000
DTSTAMP:20260423T090953
CREATED:20220831T092332Z
LAST-MODIFIED:20230104T102451Z
UID:11663-1674325800-1674343800@hennesseysdigbeth.co.uk
SUMMARY:Eubank Jnr vs Liam Smith
DESCRIPTION:Come and enjoy Chris Eubank Jnr vs Liam Smith in true style at Hennesseys the only place to be to watch Live  Boxing \nFight & build up with commentary on big screen & multiple TVs  throughout the main bar\, beer garden and basement Bar \n \n
URL:https://hennesseysdigbeth.co.uk/event/eubank-jnr-vs-smith/
CATEGORIES:Live Boxing
ATTACH;FMTTYPE=image/jpeg:https://hennesseysdigbeth.co.uk/website/wp-content/uploads/2022/08/eands.jpg
END:VEVENT
END:VCALENDAR