BEGIN:VCALENDAR
VERSION:2.0
PRODID:-//Hennesseys Bar - Kitchen - Garden - ECPv4.9.13//NONSGML v1.0//EN
CALSCALE:GREGORIAN
METHOD:PUBLISH
X-WR-CALNAME:Hennesseys Bar - Kitchen - Garden
X-ORIGINAL-URL:https://hennesseysdigbeth.co.uk
X-WR-CALDESC:Events for Hennesseys Bar - Kitchen - Garden
BEGIN:VTIMEZONE
TZID:Europe/London
BEGIN:DAYLIGHT
TZOFFSETFROM:+0000
TZOFFSETTO:+0100
TZNAME:BST
DTSTART:20210328T010000
END:DAYLIGHT
BEGIN:STANDARD
TZOFFSETFROM:+0100
TZOFFSETTO:+0000
TZNAME:GMT
DTSTART:20211031T010000
END:STANDARD
END:VTIMEZONE
BEGIN:VEVENT
DTSTART;TZID=Europe/London:20210622T170000
DTEND;TZID=Europe/London:20210622T233000
DTSTAMP:20260423T214313
CREATED:20210521T134305Z
LAST-MODIFIED:20210521T134305Z
UID:9732-1624381200-1624404600@hennesseysdigbeth.co.uk
SUMMARY:England vs Czech Republic
DESCRIPTION:Tuesday 18th June England v Czech Republic 8PM KO \nCome and enjoy England vs Czech Republic Live with commentary. Garden bar with huge LED screen and stadium atmosphere. Main air conditioned  Bar with 14 HD Multi screens. \nNEW for 2021 our new Basement Bar will be open with 2 big screens and 5 Ultra HD TVs \n\nTable bookings only\, (walk ins available but likely to be sold out)\nRule of 6 to a table outside\, 6 to a table inside from 2 households\n\nTo make a booking click table booking button below \n    	\n        Book Your Table Now        \n        \n
URL:https://hennesseysdigbeth.co.uk/event/england-vs-czech-republic/
CATEGORIES:Euro 2021
ATTACH;FMTTYPE=image/jpeg:https://hennesseysdigbeth.co.uk/website/wp-content/uploads/2021/04/England-1.jpg
END:VEVENT
END:VCALENDAR